BEGIN:VCALENDAR
VERSION:2.0
PRODID:-//Gewaltfreie Kommunikation - ECPv6.15.20//NONSGML v1.0//EN
CALSCALE:GREGORIAN
METHOD:PUBLISH
X-ORIGINAL-URL:https://www.gfk-info.de
X-WR-CALDESC:Veranstaltungen für Gewaltfreie Kommunikation
REFRESH-INTERVAL;VALUE=DURATION:PT1H
X-Robots-Tag:noindex
X-PUBLISHED-TTL:PT1H
BEGIN:VTIMEZONE
TZID:Europe/Berlin
BEGIN:DAYLIGHT
TZOFFSETFROM:+0100
TZOFFSETTO:+0200
TZNAME:CEST
DTSTART:20240331T010000
END:DAYLIGHT
BEGIN:STANDARD
TZOFFSETFROM:+0200
TZOFFSETTO:+0100
TZNAME:CET
DTSTART:20241027T010000
END:STANDARD
BEGIN:DAYLIGHT
TZOFFSETFROM:+0100
TZOFFSETTO:+0200
TZNAME:CEST
DTSTART:20250330T010000
END:DAYLIGHT
BEGIN:STANDARD
TZOFFSETFROM:+0200
TZOFFSETTO:+0100
TZNAME:CET
DTSTART:20251026T010000
END:STANDARD
BEGIN:DAYLIGHT
TZOFFSETFROM:+0100
TZOFFSETTO:+0200
TZNAME:CEST
DTSTART:20260329T010000
END:DAYLIGHT
BEGIN:STANDARD
TZOFFSETFROM:+0200
TZOFFSETTO:+0100
TZNAME:CET
DTSTART:20261025T010000
END:STANDARD
END:VTIMEZONE
BEGIN:VEVENT
DTSTART;VALUE=DATE:20250724
DTEND;VALUE=DATE:20250727
DTSTAMP:20260423T042737
CREATED:20250428T115932Z
LAST-MODIFIED:20250428T115932Z
UID:10008738-1753315200-1753574399@www.gfk-info.de
SUMMARY:GFK-Jahresausbildung 2025/2026
DESCRIPTION:Überblick \nMit dieser Fortbildung bieten wir ein Format an\, das sich an Menschen richtet\, die GFK in allen Aspekten intensiv vertiefen möchten. Es ist damit geeignet\, Kenntnisse und Skills zu erwerben\, um neben dem Wunsch nach persönlicher Weiterentwicklung auch in Einrichtungen oder Firmen als Multiplikator:in wirken zu können\, oder um in die Ausbildung als GFK-Trainer:in einzusteigen. \nInhalte \nZu Beginn des ersten Moduls bieten wir zunächst einen kurzen „Refresher“ zur GFK\, um eine eigene Standortbestimmung zu ermöglichen. Selbsteinschätzung\, Selbstreflexion und Feedback unterstützen dich beim Festlegen deiner Lernfelder und -ziele. \nThemenbezogen arbeiten wir mit Übungen\, Input\, Probehandeln und Prozessbegleitung und nutzen durchgängig Reflexion und Feedback\, um das gemeinsame Lernen zu unterstützen. Nicht zuletzt wollen wir auch das Erreichte feiern. \nIm Verlauf der fünf Module behandeln wir die wesentlichen Aspekte\, Modelle und Prozesse der GFK. Das trägt zur Entwicklung von Kompetenzen wie Perspektivwechsel\, Prozessbegleitung und dem Verständnis der Schlüsselunterscheidungen bei ─ wichtige Bausteine\, wenn es darum geht\, z.B. \n\nals Multiplikator:in die GFK in Teams zu tragen und diese in der Umsetzung zu begleiten\,\nWorkshops zu gestalten\,\neine Feedbackkultur zu fördern\, deren Fokus auf Wachstum und Lernen liegt\,\ndie eigenen Teamleader-Qualitäten zu erweitern und Führung auf Augenhöhe wirklich zu leben\,\nin Einrichtungen und Organisationen zum Miteinander beizutragen\, indem die Bedürfnisse aller Beteiligten berücksichtigt werden.\n\nWir sehen in diesen Kompetenzen eine wirksame Unterstützung des sozialen Wandels. \nDie Teilnahme an der Fortbildung ist in vollem Umfang (15 Tage) anrechenbar für die Zertifizierung als GFK-Trainer:in durch das CNVC. \n5 Module à 3 Tage \nModul 1           24. – 26.7.25\nModul 2           9. – 11.10.25\nModul 3           11 – 13.12.25\nModul 4           25. – 27.2.26\nModul 5           9. – 11.4.26 \nSeminarkosten \nFür Privatpersonen und Non-Profit-Organisationen bieten wir einen Preisbereich an\, aus dem du selbst auswählst entsprechend deinen Möglichkeiten. Wir möchten dazu anregen\, einen Betrag zu wählen\, der für dich stimmig ist\, nach dem Motto „mindestens so viel wie du kannst und höchstens so viel wie du willst“. \nFür die 5 Module der Fortbildung stellen wir uns einen Beitrag zwischen 1.750 und 3.000 € vor. Wenn auch der Einstiegsbeitrag von 1750 € zu hoch für dich ist oder dir Ratenzahlung wichtig wäre\, dann wende dich an uns; wir finden einen Weg. \nFür Mitarbeiter:innen von Unternehmen und bei Finanzierung über den Arbeitgeber berechnen wir einen Seminarbeitrag von 3.000 €. \nKosten für Übernachtung und Verpflegung \n… ergeben sich aus der individuellen Nutzung: \n\nbei Übernachtung im Tagungshaus: Wir haben einige Einzelzimmer vorab reserviert. Die Kosten pro Person und Modul (2 Übernachtungen\, Vollpension) liegen 2025 ca. bei 243 €.\nbei täglicher Anreise: die Kosten ergeben sich aus der Teilnahme an den Mahlzeiten; für 2025 ca. 114 € pro Person und Modul.\n\nDiese Kosten für Übernachtung und Verpflegung verrechnen wir aktuell pro Modul. \nhier Anmeldebogen downloaden \nGeeignet zum Vertiefen
URL:https://www.gfk-info.de/seminar/gfk-jahresausbildung-2025-2026/
LOCATION:Thomashof\, Karlsruhe\, Stupfericher Weg 1\, Karlsruhe\, 76227\, Deutschland
CATEGORIES:Ausbildung / Jahrestraining
ATTACH;FMTTYPE=image/jpeg:https://www.gfk-info.de/wp-content/uploads/2022/07/katrin_frank.jpg
ORGANIZER;CN="Noe%2C Frank":MAILTO:info@empathieleben.de
GEO:48.9672233;8.5046467
X-APPLE-STRUCTURED-LOCATION;VALUE=URI;X-ADDRESS=Thomashof Karlsruhe Stupfericher Weg 1 Karlsruhe 76227 Deutschland;X-APPLE-RADIUS=500;X-TITLE=Stupfericher Weg 1:geo:8.5046467,48.9672233
END:VEVENT
BEGIN:VEVENT
DTSTART;TZID=Europe/Berlin:20250711T100000
DTEND;TZID=Europe/Berlin:20250713T160000
DTSTAMP:20260423T042737
CREATED:20250428T115224Z
LAST-MODIFIED:20250428T120404Z
UID:10008737-1752228000-1752422400@www.gfk-info.de
SUMMARY:Drei-Tages-Seminar Gewaltfreie Kommunikation vertiefen
DESCRIPTION:Inhaltliches \nUnser Seminar richtet sich an Menschen\, die ihre Kenntnisse der Gewaltfreien Kommunikation vertiefen möchten.\nIn einem geschützten Rahmen die Gelegenheit haben\, eigene Themen im GFK-Kontext zu beleuchten\nAufrichtiger Selbstausdruck – für meine Anliegen gehen auch in schwierigen Situationen.\nIn Empathieprozessen präsent sein und meine Fähigkeit vertiefen\, mich empathisch auszudrücken.\nSpielerisch werden Situationen aus dem Alltag erkundet und in der GFK-Haltung erprobt. Dabei helfen uns Übungen\, Lerneinheiten\, Rollenspiele\, der gegenseitige Austausch und die Unterstützung in der Gruppe. \nOrganisatorisches \nFür diesen Rahmen sehen wir 12 Teilnehmende als sinnvolle Obergrenze\, um die GFK wirksam zu vermitteln und die Übungen präsent begleiten zu können. Weitere Interessierte nehmen wir gerne auf die Warteliste\, falls Plätze wieder frei werden.\nDieses Seminar ist für eine Zertifizierung beim CNVC anrechenbar.\nDatum: 11.7. bis 13.7.25. Seminarzeiten: Freitag 10:00-18:00\, Samstag 9:00-18:00\, Sonntag 9:00-16:00 \nDer finanzielle Beitrag … \nUm möglichst vielen Menschen die Teilnahme zu ermöglichen\, bieten wir für den Seminarbeitrag einen Preisbereich an\, aus dem Du selbst auswählst. Wenn auch ein ermäßigter Platz noch zu teuer für Dich ist\, dann wende Dich an uns; wir finden einen Weg.\nZum Seminarbeitrag kommt die Verpflegungspauschale für das Tagungshaus hinzu. Da die Preise der Tagungshäuser im letzten Jahr stark gestiegen sind\, ergeben sich leider höhere Pauschalen als bisher.\nSeminarbeitrag: 200 bis 450€.\nVerpflegungspauschale: 114€ (Mittagsbuffet und Kaffee/Tee/Kuchen für 3 Tage).\nBei Übernachtung im Tagungshaus kommen 130€ (2 Übernachtungen im EZ mit Frühstück und Abendessen) hinzu. \nBitte teilt uns bei der Anmeldung mit\, ob Ihr vegetarisch oder vegan essen möchtet und auch falls Unverträglichkeiten bestehen\, z.B. Gluten- oder lactosefrei. \nAnmeldung \nMit der Anmeldung per E-Mail an info@empathieleben.de und der Überweisung der Seminargebühr ist Dein Seminarplatz reserviert.\nWenn was dazwischen kommt …\nBis 4 Wochen vor Beginn erstatten wir die Seminargebühr zurück. Sofern eine Ersatzperson benannt wird oder jemand von der Warteliste nachrücken kann\, auch danach.https://www.gfk-info.de/wp-content/uploads/2025/04/Anmeldungsformular-Anmeldeformular \nDie Tagungsstätte Thomashof … \nbietet für unser Seminar Räumlichkeiten in schöner Umgebung\, lädt ein zu Spazier- gängen entlang von Pappelallee und Waldlandschaften. So entsteht Raum für Ruhe und Entspannung\, ins Gespräch kommen\, Pausen in der Natur genießen. \n 
URL:https://www.gfk-info.de/seminar/drei-tages-seminar-gewaltfreie-kommunikation-vertiefen/
LOCATION:Thomashof\, Karlsruhe\, Stupfericher Weg 1\, Karlsruhe\, 76227\, Deutschland
CATEGORIES:Vertiefungsseminar
ATTACH;FMTTYPE=image/jpeg:https://www.gfk-info.de/wp-content/uploads/2022/07/katrin_frank.jpg
ORGANIZER;CN="Noe%2C Frank":MAILTO:info@empathieleben.de
GEO:48.9672233;8.5046467
X-APPLE-STRUCTURED-LOCATION;VALUE=URI;X-ADDRESS=Thomashof Karlsruhe Stupfericher Weg 1 Karlsruhe 76227 Deutschland;X-APPLE-RADIUS=500;X-TITLE=Stupfericher Weg 1:geo:8.5046467,48.9672233
END:VEVENT
END:VCALENDAR