BEGIN:VCALENDAR
VERSION:2.0
PRODID:-//Gewaltfreie Kommunikation - ECPv6.15.20//NONSGML v1.0//EN
CALSCALE:GREGORIAN
METHOD:PUBLISH
X-ORIGINAL-URL:https://www.gfk-info.de
X-WR-CALDESC:Veranstaltungen für Gewaltfreie Kommunikation
REFRESH-INTERVAL;VALUE=DURATION:PT1H
X-Robots-Tag:noindex
X-PUBLISHED-TTL:PT1H
BEGIN:VTIMEZONE
TZID:Europe/Berlin
BEGIN:DAYLIGHT
TZOFFSETFROM:+0100
TZOFFSETTO:+0200
TZNAME:CEST
DTSTART:20250330T010000
END:DAYLIGHT
BEGIN:STANDARD
TZOFFSETFROM:+0200
TZOFFSETTO:+0100
TZNAME:CET
DTSTART:20251026T010000
END:STANDARD
BEGIN:DAYLIGHT
TZOFFSETFROM:+0100
TZOFFSETTO:+0200
TZNAME:CEST
DTSTART:20260329T010000
END:DAYLIGHT
BEGIN:STANDARD
TZOFFSETFROM:+0200
TZOFFSETTO:+0100
TZNAME:CET
DTSTART:20261025T010000
END:STANDARD
BEGIN:DAYLIGHT
TZOFFSETFROM:+0100
TZOFFSETTO:+0200
TZNAME:CEST
DTSTART:20270328T010000
END:DAYLIGHT
BEGIN:STANDARD
TZOFFSETFROM:+0200
TZOFFSETTO:+0100
TZNAME:CET
DTSTART:20271031T010000
END:STANDARD
BEGIN:DAYLIGHT
TZOFFSETFROM:+0100
TZOFFSETTO:+0200
TZNAME:CEST
DTSTART:20280326T010000
END:DAYLIGHT
BEGIN:STANDARD
TZOFFSETFROM:+0200
TZOFFSETTO:+0100
TZNAME:CET
DTSTART:20281029T010000
END:STANDARD
END:VTIMEZONE
BEGIN:VEVENT
DTSTART;TZID=Europe/Berlin:20260917T090000
DTEND;TZID=Europe/Berlin:20260918T160000
DTSTAMP:20260424T142314
CREATED:20260205T092059Z
LAST-MODIFIED:20260227T133450Z
UID:10011177-1789635600-1789747200@www.gfk-info.de
SUMMARY:Einführung in die Gewaltfreie Kommunikation | Bildungsurlaub | Berlin
DESCRIPTION:“Nicht der Konflikt ist das Problem\, sondern die Art und Weise wie wir mit ihm umgehen.” \nWie kannst Du bewusster kommunizieren\, gelassener in Konflikten agieren\, eine empathische und wertschätzende Grundhaltung aufbauen\, mit Deinem Gegenüber und Dir selbst in Verbindung bleiben und dabei vor allem ganz du selbst sein? \nDie Gewaltfreie Kommunikation ist ein Weg\, ganz uns selbst und dem Leben zu vertrauen und mit Klarheit\, unsere Beziehungen zu gestalten. \nDie Gewaltfreie Kommunikation lädt uns ein… \n\n​wahrhaftig und ehrlich\, statt nett zu sein\nin einen tieferen & einfühlsameren Kontakt mit uns selbst zu kommen\nVerantwortung für unsere Gefühle und unser Leben zu übernehmen\ndie Power unserer Wut kraftvoll für uns\, statt gegen andere einzusetzen\nstatt in Schuld zu verharren\, uns berührbar zu machen und Anteil zu nehmen\nstatt anzuklagen und zu verurteilen\, zu sagen was ich brauche\nfür unsere Bedürfnisse zu sorgen\, ohne andere zu manipulieren\n\nIn den echtjetzt! GFK-Einführungsseminaren lernst du die Grundlagen der Gewaltfreien Kommunikation verknüpft mit aktuellen Erkenntnissen aus Traumatherapie und Körperarbeit kennen. \nDas Seminar ist in Berlin und Brandenburg als Bildungsurlaub anerkannt!
URL:https://www.gfk-info.de/seminar/einfuehrung-in-die-gewaltfreie-kommunikation-bildungsurlaub-berlin/
LOCATION:Hiram Haus e.V.\, Alt Tempelhof 28\,  12103 Berlin\, Hiram Haus e.V. Alt Tempelhof 28\, Berlin\, Berlin\, 12103
CATEGORIES:Bildungsurlaub,Einführung,GFK am Arbeitsplatz,Praxis-Training,Praxistraining
ATTACH;FMTTYPE=image/jpeg:https://www.gfk-info.de/wp-content/uploads/2026/02/Frauhoertzu-2-1-scaled.jpg
ORGANIZER;CN="Bendler%2C S%C3%B6ren":MAILTO:kontakt@bendler.de
GEO:52.4661999;13.3838684
X-APPLE-STRUCTURED-LOCATION;VALUE=URI;X-ADDRESS=Hiram Haus e.V. Alt Tempelhof 28  12103 Berlin Hiram Haus e.V. Alt Tempelhof 28 Berlin Berlin 12103;X-APPLE-RADIUS=500;X-TITLE=Hiram Haus e.V. Alt Tempelhof 28:geo:13.3838684,52.4661999
END:VEVENT
BEGIN:VEVENT
DTSTART;TZID=Europe/Berlin:20261015T090000
DTEND;TZID=Europe/Berlin:20270115T160000
DTSTAMP:20260424T142314
CREATED:20260227T135004Z
LAST-MODIFIED:20260227T135244Z
UID:10011340-1792054800-1800028800@www.gfk-info.de
SUMMARY:5 Tage Bildungsurlaub Gewaltfreie Kommunikation in Berlin
DESCRIPTION:Klar und empathisch kommunizieren – auch wenn es schwierig wird \nKommunikation gelingt\, wenn Klarheit und Empathie zusammenkommen. Doch gerade unter Stress – im Team-Meeting\, mit Vorgesetzten oder im privaten Konflikt – rutschen wir schnell in Vorwurf\, Rechtfertigung oder Rückzug. \nIn diesem praxisnahen Seminar lernen Sie\, auch in herausfordernden Situationen handlungsfähig und wertschätzend zu bleiben. Statt grauer Theorie arbeiten wir konkret an Ihren eigenen beruflichen und privaten Beispielen. So entsteht unmittelbarer Transfer in Ihren Alltag. \nDas Besondere: Nachhaltiges Lernen im 3-Phasen-Modell \nVeränderung braucht Zeit. Deshalb findet dieses Seminar nicht als kompakter Block statt\, sondern in drei aufeinander aufbauenden Phasen. Zwischen den Modulen erproben Sie das Gelernte im Alltag. In den Folgeterminen reflektieren wir Ihre Erfahrungen und vertiefen gezielt die Methoden dort\, wo es noch hakt. \nSo wird aus Impulsen echte Handlungskompetenz. \n  \nWas Sie konkret lernen: \n·      Muster durchbrechen: Raus aus dem Automatismus von Vorwurf und Rechtfertigung \n·      Klar sprechen – ohne zu verletzen: Bedürfnisse so formulieren\, dass sie gehört werden \n·      Gelassen bleiben: Empathie-Techniken für stürmische Gespräche \n·      Souverän reagieren: Eigene Trigger verstehen und bewusst steuern \n  \nDieses Seminar richtet sich an Menschen\, die ihre Kommunikationsfähigkeit vertiefen\, Konflikte konstruktiv gestalten und sowohl beruflich als auch privat wirksam und authentisch auftreten möchten. \nWenn Sie nicht nur „besser reden“\, sondern in schwierigen Momenten wirklich anders handeln wollen\, sind Sie hier richtig. \n  \nTermine: \nModul 1\nDonnerstag\,  15.10.2026 | 09:00 – 16:00 Uhr\nFreitag\, 16.10.2026 |09:00 – 16:00 Uhr \nModul 2\nDonnerstag\,  03.12.2026 | 09:00 – 16:00 Uhr\nFreitag\, 04.12.2026 |09:00 – 16:00 Uhr \nModul 3\nFreitag\, 15.01.2026 |09:00 – 16:00 Uhr \n  \nKosten:  630\,00 €​ \nvom Arbeitgeber bezahlt: 840\,00 € \nErmäßigung auf Anfrage möglich \n 
URL:https://www.gfk-info.de/seminar/5-tage-bildungsurlaub-gewaltfreie-kommunikation/
LOCATION:Hiram Haus e.V.\, Alt Tempelhof 28\,  12103 Berlin\, Hiram Haus e.V. Alt Tempelhof 28\, Berlin\, Berlin\, 12103
ATTACH;FMTTYPE=image/jpeg:https://www.gfk-info.de/wp-content/uploads/2026/02/Kleingruppe-froehlich-im-Austausch.jpg
ORGANIZER;CN="Bendler%2C S%C3%B6ren":MAILTO:kontakt@bendler.de
GEO:52.4661999;13.3838684
X-APPLE-STRUCTURED-LOCATION;VALUE=URI;X-ADDRESS=Hiram Haus e.V. Alt Tempelhof 28  12103 Berlin Hiram Haus e.V. Alt Tempelhof 28 Berlin Berlin 12103;X-APPLE-RADIUS=500;X-TITLE=Hiram Haus e.V. Alt Tempelhof 28:geo:13.3838684,52.4661999
END:VEVENT
END:VCALENDAR