BEGIN:VCALENDAR
VERSION:2.0
PRODID:-//Gewaltfreie Kommunikation - ECPv6.15.20//NONSGML v1.0//EN
CALSCALE:GREGORIAN
METHOD:PUBLISH
X-WR-CALNAME:Gewaltfreie Kommunikation
X-ORIGINAL-URL:https://www.gfk-info.de
X-WR-CALDESC:Veranstaltungen für Gewaltfreie Kommunikation
REFRESH-INTERVAL;VALUE=DURATION:PT1H
X-Robots-Tag:noindex
X-PUBLISHED-TTL:PT1H
BEGIN:VTIMEZONE
TZID:Europe/Berlin
BEGIN:DAYLIGHT
TZOFFSETFROM:+0100
TZOFFSETTO:+0200
TZNAME:CEST
DTSTART:20250330T010000
END:DAYLIGHT
BEGIN:STANDARD
TZOFFSETFROM:+0200
TZOFFSETTO:+0100
TZNAME:CET
DTSTART:20251026T010000
END:STANDARD
BEGIN:DAYLIGHT
TZOFFSETFROM:+0100
TZOFFSETTO:+0200
TZNAME:CEST
DTSTART:20260329T010000
END:DAYLIGHT
BEGIN:STANDARD
TZOFFSETFROM:+0200
TZOFFSETTO:+0100
TZNAME:CET
DTSTART:20261025T010000
END:STANDARD
BEGIN:DAYLIGHT
TZOFFSETFROM:+0100
TZOFFSETTO:+0200
TZNAME:CEST
DTSTART:20270328T010000
END:DAYLIGHT
BEGIN:STANDARD
TZOFFSETFROM:+0200
TZOFFSETTO:+0100
TZNAME:CET
DTSTART:20271031T010000
END:STANDARD
END:VTIMEZONE
BEGIN:VEVENT
DTSTART;TZID=Europe/Berlin:20261012T140000
DTEND;TZID=Europe/Berlin:20261016T150000
DTSTAMP:20260421T135229
CREATED:20250806T135203Z
LAST-MODIFIED:20250806T142310Z
UID:10009104-1791813600-1792162800@www.gfk-info.de
SUMMARY:GFK-Einführung 5 Tage Intensivkurs
DESCRIPTION:Worum es in diesem Seminar geht:\nDie “Gewaltfreie Kommunikation” wurde von Marshall Rosenberg als ein Kommunikations- und Konfliktlösungsprozess entwickelt. Er unterstützt Menschen dabei\, mit sich selbst und anderen in eine einfühlsame Verbindung zu gehen. Dabei wird davon ausgegangen\, dass alles\, was wir Menschen tun\, wir deswegen tun\, um Bedürfnisse zu erfüllen. Manchmal wählen wir dazu Strategien aus\, die aus alten Verhaltensmustern stammen\, die oft beitragen\, Konflikte zu verursachen. Denn die meisten Konflikte passieren auf der Ebene der Strategien und nicht auf der Ebene der Bedürfnisse. \nDie gewaltfreie Kommunikation lädt dazu ein\, sich dieser Strategien wie Muster und Prägungen bewusst zu werden. \nZiel ist es\, eine neue innere Haltung zu entwickeln\, die uns wirklich berührt und Begegnung möglich macht. \nIn diesem Seminar werden unterschiedliche konkrete Werkzeuge z. B. der sogenannte Viererschritt vorgestellt und auch eingeübt. Als zweites Werkzeug werden Sie im Seminar auch das einfühlsame Hören kennenlernen und einüben.\nDie Vision von Rosenberg war es\, eine Welt zu schaffen\, in der die Bedürfnisse aller gehört und respektiert werden und wir Lösungen finden\, um sie zu erfüllen\, die niemandem und nichts schaden. Dahinter steht die Überzeugung\, dass genug für alle da ist. \n  \nFür wen ist dieses Seminar geeignet:\nDiese Seminar ist für alle Menschen geeignet\, die ihr kommunikatives Verhalten erweitern und vertiefen wollen. \nEs ist insbesondere empfehlenswert für alle Arbeitnehmer/innen in beruflichen Prozessen wie Behörden\, Dienstleistern\, Unternehmen\, Handwerk\, Industrie\, Angestellte\, Führungskräfte\, Personalentwickler\, Selbstständige und für Arbeitnehmer/-innen\, die die genannten Kenntnisse bei ihren beruflichen und privaten Tätigkeiten (u. a. auch alle sozialpädagogischen\, pflegerischen und therapeutischen Berufe) einsetzen möchten. \nDas Seminar ist als Bildungsurlaub anerkannt. \n  \nAnmeldung und weitere Informationen:\nDieses Seminar führe ich in Kooperation mit B.I.E.K. Bensheim durch. Eine detaillierte Beschreibung dieses Einführungsseminars finden Sie auf meiner Website: https://dialog-forum.com/gfk-einfuehrung-oktober-2026-5-tage-intensivkurs-in-hoechst-odw/ \nDen Ablaufplan des Seminars sowie das Formular zur Beantragung Ihres Bildungsurlaubs können Sie auf der B.I.E.K.-Homepage einsehen und downloaden. \nAuch die Anmeldung erfolgt über den Link bei B.I.E.K. Bensheim.
URL:https://www.gfk-info.de/seminar/gfk-einfuehrung-5-tage-intensivkurs-2/
LOCATION:B.I.E.K. Seminar Gästehaus Odenwald\, Am Dachsrain 2\, Höchst im Odenwald\, 64739\, Deutschland
ORGANIZER;CN="Schererz%2C Eberhard":MAILTO:eberhard-schererz@gmx.de
GEO:49.7886601;8.9308606
X-APPLE-STRUCTURED-LOCATION;VALUE=URI;X-ADDRESS=B.I.E.K. Seminar Gästehaus Odenwald Am Dachsrain 2 Höchst im Odenwald 64739 Deutschland;X-APPLE-RADIUS=500;X-TITLE=Am Dachsrain 2:geo:8.9308606,49.7886601
END:VEVENT
BEGIN:VEVENT
DTSTART;TZID=Europe/Berlin:20261130T140000
DTEND;TZID=Europe/Berlin:20261204T150000
DTSTAMP:20260421T135229
CREATED:20250806T141645Z
LAST-MODIFIED:20250806T141645Z
UID:10009105-1796047200-1796396400@www.gfk-info.de
SUMMARY:GFK-Einführung 5 Tage Intensivkurs
DESCRIPTION:Worum es in diesem Seminar geht:\nDie “Gewaltfreie Kommunikation” wurde von Marshall Rosenberg als ein Kommunikations- und Konfliktlösungsprozess entwickelt. Er unterstützt Menschen dabei\, mit sich selbst und anderen in eine einfühlsame Verbindung zu gehen. Dabei wird davon ausgegangen\, dass alles\, was wir Menschen tun\, wir deswegen tun\, um Bedürfnisse zu erfüllen. Manchmal wählen wir dazu Strategien aus\, die aus alten Verhaltensmustern stammen\, die oft beitragen\, Konflikte zu verursachen. Denn die meisten Konflikte passieren auf der Ebene der Strategien und nicht auf der Ebene der Bedürfnisse. \nDie gewaltfreie Kommunikation lädt dazu ein\, sich dieser Strategien wie Muster und Prägungen bewusst zu werden. \nZiel ist es\, eine neue innere Haltung zu entwickeln\, die uns wirklich berührt und Begegnung möglich macht. \nIn diesem Seminar werden unterschiedliche konkrete Werkzeuge z. B. der sogenannte Viererschritt vorgestellt und auch eingeübt. Als zweites Werkzeug werden Sie im Seminar auch das einfühlsame Hören kennenlernen und einüben.\nDie Vision von Rosenberg war es\, eine Welt zu schaffen\, in der die Bedürfnisse aller gehört und respektiert werden und wir Lösungen finden\, um sie zu erfüllen\, die niemandem und nichts schaden. Dahinter steht die Überzeugung\, dass genug für alle da ist. \n  \nFür wen ist dieses Seminar geeignet:\nDiese Seminar ist für alle Menschen geeignet\, die ihr kommunikatives Verhalten erweitern und vertiefen wollen. \nEs ist insbesondere empfehlenswert für alle Arbeitnehmer/innen in beruflichen Prozessen wie Behörden\, Dienstleistern\, Unternehmen\, Handwerk\, Industrie\, Angestellte\, Führungskräfte\, Personalentwickler\, Selbstständige und für Arbeitnehmer/-innen\, die die genannten Kenntnisse bei ihren beruflichen und privaten Tätigkeiten (u. a. auch alle sozialpädagogischen\, pflegerischen und therapeutischen Berufe) einsetzen möchten. \nDas Seminar ist als Bildungsurlaub anerkannt. \n  \nAnmeldung und weitere Informationen:\nDieses Seminar führe ich in Kooperation mit B.I.E.K. Bensheim durch. Eine detaillierte Beschreibung dieses Einführungsseminars finden Sie auf meiner Website: https://dialog-forum.com/gfk-einfuehrung-nov-dez-2026-5-tage-intensivkurs-in-hoechst-odw/ \nDen Ablaufplan des Seminars sowie das Formular zur Beantragung Ihres Bildungsurlaubs können Sie auf der B.I.E.K.-Homepage einsehen und downloaden. \nAuch die Anmeldung erfolgt über den Link bei B.I.E.K. Bensheim.
URL:https://www.gfk-info.de/seminar/gfk-einfuehrung-5-tage-intensivkurs-2-2/
LOCATION:B.I.E.K. Seminar Gästehaus Odenwald\, Am Dachsrain 2\, Höchst im Odenwald\, 64739\, Deutschland
ORGANIZER;CN="Schererz%2C Eberhard":MAILTO:eberhard-schererz@gmx.de
GEO:49.7886601;8.9308606
X-APPLE-STRUCTURED-LOCATION;VALUE=URI;X-ADDRESS=B.I.E.K. Seminar Gästehaus Odenwald Am Dachsrain 2 Höchst im Odenwald 64739 Deutschland;X-APPLE-RADIUS=500;X-TITLE=Am Dachsrain 2:geo:8.9308606,49.7886601
END:VEVENT
END:VCALENDAR