BEGIN:VCALENDAR
VERSION:2.0
PRODID:-//Gewaltfreie Kommunikation - ECPv6.15.20//NONSGML v1.0//EN
CALSCALE:GREGORIAN
METHOD:PUBLISH
X-WR-CALNAME:Gewaltfreie Kommunikation
X-ORIGINAL-URL:https://www.gfk-info.de
X-WR-CALDESC:Veranstaltungen für Gewaltfreie Kommunikation
REFRESH-INTERVAL;VALUE=DURATION:PT1H
X-Robots-Tag:noindex
X-PUBLISHED-TTL:PT1H
BEGIN:VTIMEZONE
TZID:Europe/Berlin
BEGIN:DAYLIGHT
TZOFFSETFROM:+0100
TZOFFSETTO:+0200
TZNAME:CEST
DTSTART:20250330T010000
END:DAYLIGHT
BEGIN:STANDARD
TZOFFSETFROM:+0200
TZOFFSETTO:+0100
TZNAME:CET
DTSTART:20251026T010000
END:STANDARD
BEGIN:DAYLIGHT
TZOFFSETFROM:+0100
TZOFFSETTO:+0200
TZNAME:CEST
DTSTART:20260329T010000
END:DAYLIGHT
BEGIN:STANDARD
TZOFFSETFROM:+0200
TZOFFSETTO:+0100
TZNAME:CET
DTSTART:20261025T010000
END:STANDARD
BEGIN:DAYLIGHT
TZOFFSETFROM:+0100
TZOFFSETTO:+0200
TZNAME:CEST
DTSTART:20270328T010000
END:DAYLIGHT
BEGIN:STANDARD
TZOFFSETFROM:+0200
TZOFFSETTO:+0100
TZNAME:CET
DTSTART:20271031T010000
END:STANDARD
END:VTIMEZONE
BEGIN:VEVENT
DTSTART;TZID=Europe/Berlin:20261114T090000
DTEND;TZID=Europe/Berlin:20261114T170000
DTSTAMP:20260423T024955
CREATED:20251129T111612Z
LAST-MODIFIED:20251129T111612Z
UID:10010720-1794646800-1794675600@www.gfk-info.de
SUMMARY:Argumentationstraining gegen Stammtischparolen
DESCRIPTION:Im Argumentationstraining gegen Stammtischparolen widmen wir uns den Fragen\, wie wir klar Position beziehen und demokratische Streitkultur beleben\, sowie angesichts aktueller Herausforderungen den Zusammenhalt in unserer Gesellschaft stärken können. \nReferent: Herr Dr. phil. Christian Boeser (Leiter des Netzwerks Politische Bildung Bayern und Initiator des Projekts „Streitförderer“\, bei dem es um die Förderung einer demokratischen Streitkultur sowie den Umgang mit politischem Extremismus geht)
URL:https://www.gfk-info.de/seminar/argumentationstraining-gegen-stammtischparolen/
LOCATION:ASZ Maxvorstadt\, Gabelsbergerstraße 55 a\, München\, Bayern\, 80333
CATEGORIES:Praxis-Training
ATTACH;FMTTYPE=image/jpeg:https://www.gfk-info.de/wp-content/uploads/2025/11/LogoKlein-GFK-Kopie.jpg
GEO:48.1481969;11.5656025
X-APPLE-STRUCTURED-LOCATION;VALUE=URI;X-ADDRESS=ASZ Maxvorstadt Gabelsbergerstraße 55 a München Bayern 80333;X-APPLE-RADIUS=500;X-TITLE=Gabelsbergerstraße 55 a:geo:11.5656025,48.1481969
END:VEVENT
END:VCALENDAR