BEGIN:VCALENDAR
VERSION:2.0
PRODID:-//Gewaltfreie Kommunikation - ECPv6.15.20//NONSGML v1.0//EN
CALSCALE:GREGORIAN
METHOD:PUBLISH
X-WR-CALNAME:Gewaltfreie Kommunikation
X-ORIGINAL-URL:https://www.gfk-info.de
X-WR-CALDESC:Veranstaltungen für Gewaltfreie Kommunikation
REFRESH-INTERVAL;VALUE=DURATION:PT1H
X-Robots-Tag:noindex
X-PUBLISHED-TTL:PT1H
BEGIN:VTIMEZONE
TZID:Europe/Berlin
BEGIN:DAYLIGHT
TZOFFSETFROM:+0100
TZOFFSETTO:+0200
TZNAME:CEST
DTSTART:20250330T010000
END:DAYLIGHT
BEGIN:STANDARD
TZOFFSETFROM:+0200
TZOFFSETTO:+0100
TZNAME:CET
DTSTART:20251026T010000
END:STANDARD
BEGIN:DAYLIGHT
TZOFFSETFROM:+0100
TZOFFSETTO:+0200
TZNAME:CEST
DTSTART:20260329T010000
END:DAYLIGHT
BEGIN:STANDARD
TZOFFSETFROM:+0200
TZOFFSETTO:+0100
TZNAME:CET
DTSTART:20261025T010000
END:STANDARD
BEGIN:DAYLIGHT
TZOFFSETFROM:+0100
TZOFFSETTO:+0200
TZNAME:CEST
DTSTART:20270328T010000
END:DAYLIGHT
BEGIN:STANDARD
TZOFFSETFROM:+0200
TZOFFSETTO:+0100
TZNAME:CET
DTSTART:20271031T010000
END:STANDARD
END:VTIMEZONE
BEGIN:VEVENT
DTSTART;VALUE=DATE:20260424
DTEND;VALUE=DATE:20260427
DTSTAMP:20260422T111844
CREATED:20251216T091713Z
LAST-MODIFIED:20251216T093231Z
UID:10010882-1776988800-1777247999@www.gfk-info.de
SUMMARY:Konflikte klären auf neuen Wegen – Einführungskurs in Dresden
DESCRIPTION:Wochenendseminar \nBeginn: Freitag 16.30 Uhr\nEnde: Sonntag 16.30 Uhr
URL:https://www.gfk-info.de/seminar/konflikte-klaeren-auf-neuen-wegen-einfuehrungskurs-in-dresden-2/
LOCATION:Dresden Vyana Yogaloft\, Dresden\, Sachsen\, 01257\, Deutschland
CATEGORIES:Einführung
ATTACH;FMTTYPE=image/jpeg:https://www.gfk-info.de/wp-content/uploads/2025/12/manu_giraffe_wolf_vorn_klein.jpg
ORGANIZER;CN="Flemming%2C Manuela":MAILTO:manuelaflemming@web.de
GEO:51.0504088;13.7372621
END:VEVENT
BEGIN:VEVENT
DTSTART;VALUE=DATE:20260529
DTEND;VALUE=DATE:20260601
DTSTAMP:20260422T111844
CREATED:20251216T092636Z
LAST-MODIFIED:20251216T092926Z
UID:10010883-1780012800-1780271999@www.gfk-info.de
SUMMARY:Mit Kindern auf Augenhöhe – Gewaltfreie Kommunikation im pädagogischen Alltag
DESCRIPTION:Vertiefungskurs in Dresden für alle\, die viel mit Kindern im Kontakt sind (Eltern\, Pädagog:innen\, Erzieher:innen) \nWochenendseminar von Freitag 16.30 Uhr bis Sonntag 16.30 Uhr
URL:https://www.gfk-info.de/seminar/mit-kindern-auf-augenhoehe-gewaltfreie-kommunikation-im-paedagogischen-alltag/
LOCATION:Dresden Vyana Yogaloft\, Dresden\, Sachsen\, 01257\, Deutschland
CATEGORIES:Eltern,Intensiv Training
ATTACH;FMTTYPE=image/jpeg:https://www.gfk-info.de/wp-content/uploads/2025/12/Giraffe-Kinderbild-von-Frieda.jpg
ORGANIZER;CN="Flemming%2C Manuela":MAILTO:manuelaflemming@web.de
GEO:51.0504088;13.7372621
END:VEVENT
BEGIN:VEVENT
DTSTART;VALUE=DATE:20260828
DTEND;VALUE=DATE:20260831
DTSTAMP:20260422T111844
CREATED:20251216T090907Z
LAST-MODIFIED:20260210T164730Z
UID:10010881-1787875200-1788134399@www.gfk-info.de
SUMMARY:Konflikte klären auf neuen Wegen – Einführungskurs in Dresden
DESCRIPTION:Wochenendseminar \nBeginn: Freitag 16.30 Uhr\nEnde: Sonntag 16.30 Uhr \n 
URL:https://www.gfk-info.de/seminar/konflikte-klaeren-auf-neuen-wegen-einfuehrungskurs-in-dresden/
LOCATION:Dresden Vyana Yogaloft\, Dresden\, Sachsen\, 01257\, Deutschland
CATEGORIES:Einführung,Eltern,GFK am Arbeitsplatz,Praxis-Training
ATTACH;FMTTYPE=image/jpeg:https://www.gfk-info.de/wp-content/uploads/2025/12/manu_giraffe_wolf_vorn_klein_quadratisch-1.jpg
ORGANIZER;CN="Flemming%2C Manuela":MAILTO:manuelaflemming@web.de
GEO:51.0504088;13.7372621
END:VEVENT
BEGIN:VEVENT
DTSTART;VALUE=DATE:20261106
DTEND;VALUE=DATE:20261109
DTSTAMP:20260422T111844
CREATED:20250108T172747Z
LAST-MODIFIED:20260210T164923Z
UID:10008163-1793923200-1794182399@www.gfk-info.de
SUMMARY:Konflikte klären auf neuen Wegen – Einführungskurs
DESCRIPTION:In diesem Wochenendkurs (Fr 16.30 Uhr bis Sonntag 16.00 Uhr) bekommen Sie einen Überblick über die Grundannahmen der Gewaltfreien Kommunikation und lernen die vier wichtigsten Elemente kennen\, durch die auch in schwierigen Situationen Kontakt und Verständnis zwischen Menschen wieder hergestellt werden kann. Der Schwerpunkt liegt auf dem Üben und Anwenden der Methode. \n\nEntstehung von Konflikten und typische Kommunikationsbarrieren\nWelche spezifischen Verhaltensmuster bedienen Sie in Konflikten?\nBeobachten ohne zu bewerten\nZwischen echten Gefühlen und Interpretationen unterscheiden\nBedürfnisse und Werte sowie ihre Bedeutung im Kontext von Konflikten\nBitten um das\, was unser Leben bereichert\nsich ehrlich selbst mitteilen\, ohne andere zu verletzen\n\nAlle Infos finden sie hier: https://kommunikation-flemming.com
URL:https://www.gfk-info.de/seminar/konflikte-klaeren-auf-neuen-wegen-einfuehrungskurs/
LOCATION:Dresden Vyana Yogaloft\, Dresden\, Sachsen\, 01257\, Deutschland
CATEGORIES:Einführung,Eltern,GFK am Arbeitsplatz,Praxis-Training
ATTACH;FMTTYPE=image/jpeg:https://www.gfk-info.de/wp-content/uploads/2025/01/manu_giraffe_wolf_vorn_klein_quadratisch.jpg
ORGANIZER;CN="Flemming%2C Manuela":MAILTO:manuelaflemming@web.de
GEO:51.0504088;13.7372621
END:VEVENT
END:VCALENDAR