BEGIN:VCALENDAR
VERSION:2.0
PRODID:-//Gewaltfreie Kommunikation - ECPv6.15.20//NONSGML v1.0//EN
CALSCALE:GREGORIAN
METHOD:PUBLISH
X-ORIGINAL-URL:https://www.gfk-info.de
X-WR-CALDESC:Veranstaltungen für Gewaltfreie Kommunikation
REFRESH-INTERVAL;VALUE=DURATION:PT1H
X-Robots-Tag:noindex
X-PUBLISHED-TTL:PT1H
BEGIN:VTIMEZONE
TZID:Europe/Berlin
BEGIN:DAYLIGHT
TZOFFSETFROM:+0100
TZOFFSETTO:+0200
TZNAME:CEST
DTSTART:20250330T010000
END:DAYLIGHT
BEGIN:STANDARD
TZOFFSETFROM:+0200
TZOFFSETTO:+0100
TZNAME:CET
DTSTART:20251026T010000
END:STANDARD
BEGIN:DAYLIGHT
TZOFFSETFROM:+0100
TZOFFSETTO:+0200
TZNAME:CEST
DTSTART:20260329T010000
END:DAYLIGHT
BEGIN:STANDARD
TZOFFSETFROM:+0200
TZOFFSETTO:+0100
TZNAME:CET
DTSTART:20261025T010000
END:STANDARD
BEGIN:DAYLIGHT
TZOFFSETFROM:+0100
TZOFFSETTO:+0200
TZNAME:CEST
DTSTART:20270328T010000
END:DAYLIGHT
BEGIN:STANDARD
TZOFFSETFROM:+0200
TZOFFSETTO:+0100
TZNAME:CET
DTSTART:20271031T010000
END:STANDARD
END:VTIMEZONE
BEGIN:VEVENT
DTSTART;VALUE=DATE:20260328
DTEND;VALUE=DATE:20260727
DTSTAMP:20260422T161419
CREATED:20250101T150916Z
LAST-MODIFIED:20251223T162732Z
UID:10008150-1774656000-1785110399@www.gfk-info.de
SUMMARY:GFK-Grundausbildung: Worte die wirken – Haltung die Verbindet
DESCRIPTION:Mit dieser intensiven GFK-Grundausbildung stärkst du deine innere Führungskraft\, um genau dort aktiv zu werden\, wo du gebraucht wirst und wo du sein willst – mit Klarheit\, Empathie und innerer Stärke. \nStell dir vor\, du könntest Konflikte in Chancen verwandeln und Beziehungen auf Augenhöhe gestalten – sowohl im Beruf als auch privat! Genau das kannst du in dieser Grundausbildung in Gewaltfreier Kommunikation lernen. Sie bietet weit mehr als reine Wissensvermittlung – sie lädt dich ein zu persönlichem Wachstum und einer tiefgreifenden Transformation. Eine Reise\, die beruflich wie privat neue Perspektiven eröffnet und Veränderungen bewirkt. \nNachhaltiges Lernen und Integrieren \nIn fünf intensiven Präsenzmodulen in Heidelberg und vier Online-Zwischenstopps tauchst du tief in die Welt der GFK ein und lernst\, wie du Missverständnisse vermeidest\, klar und empathisch kommunizierst und deine innere Stärke ausbaust. Inhaltlich werden die Kernthemen der GFK bearbeitet\, so dass du eine solide Grundlage hast\, für \n\nein selbstbestimmtes Leben\nerfüllende Arbeit\neinen sinnstiftenden Beitrag in der Welt\noder wenn du selbst Gewaltfreie Kommunikation weiter geben möchtest.\n\nZiele der GFK-Grundausbildung \n\nSelbstführung stärken: Verantwortung für die eigenen Bedürfnisse übernehmen und innere Klarheit fördern\n\n\nEmotionale und mentale Kompetenz entwickeln: Umgang mit Gefühlen und Gedanken bewusster gestalten\n\n\nBeziehungskompetenz fördern: Konflikte konstruktiv lösen und Beziehungen auf Augenhöhe gestalten\n\n\nNachhaltige Wirkung entfalten: Eine kooperative Haltung entwickeln\, die in allen Lebensbereichen spürbar wird\n\n\nGesellschaftlichen Wandel anstoßen: Eigene Visionen und konkrete Schritte entwickeln\, um aktiv zu Veränderung beizutragen\n\n\n5 Präsenzmodule jeweils Samstag und Sonntag in Heidelberg + 4 Online-Zwischenstopps zwischen den Modulen
URL:https://www.gfk-info.de/seminar/sei-nicht-nett-sei-echt-ein-workshop-fuer-menschen-die-wertschaetzend-und-wirksam-kommunizieren-wollen-3-3-2-4-2-2-3-3-4/
LOCATION:Ziegelhausen (Heidelberg)\, Kleingemünderstr. 1\, Heidelberg\, Baden-Württemberg\, 69118\, Deutschland
CATEGORIES:Ausbildung / Jahrestraining,Vertiefungsseminar
ATTACH;FMTTYPE=image/jpeg:https://www.gfk-info.de/wp-content/uploads/2017/11/koenig_kerstin-1.jpg
ORGANIZER;CN="K%C3%B6nig%2C Kerstin":MAILTO:kerstin.koenig@echt-sein.de
GEO:49.4154874;8.759745
X-APPLE-STRUCTURED-LOCATION;VALUE=URI;X-ADDRESS=Ziegelhausen (Heidelberg) Kleingemünderstr. 1 Heidelberg Baden-Württemberg 69118 Deutschland;X-APPLE-RADIUS=500;X-TITLE=Kleingemünderstr. 1:geo:8.759745,49.4154874
END:VEVENT
BEGIN:VEVENT
DTSTART;VALUE=DATE:20260921
DTEND;VALUE=DATE:20260924
DTSTAMP:20260422T161419
CREATED:20250114T143421Z
LAST-MODIFIED:20251223T164824Z
UID:10008176-1789948800-1790207999@www.gfk-info.de
SUMMARY:Schwierigen Situationen im Beruf mit GFK wertschätzend begegnen | Vertiefung Bildungsurlaub
DESCRIPTION:Wenn Sie bereits an der Einführung in die Gewaltfreie Kommunikation im Beruf teilgenommen haben\, haben sicher bereits eine Idee davon bekommen\, wie das Kommunikationsmodell von Dr. Marshall B. Rosenberg helfen kann\, ein gelingendes Miteinander im beruflichen Alltag zu gestalten. Vielleicht haben Sie bereits positive Erfahrungen gemacht und Einiges aus dem Seminar umsetzen können. Manches ist gelungen\, in anderen Situationen waren Sie noch unsicher. Die ersten Übungs-Schritte beziehen sich meist auf die Selbstklärung und Dinge anders zu formulieren. \nIn diesem Seminar üben wir\, mehr in den Dialog zu gehen und die GFK auch in schwierigeren Situationen anzuwenden und v. a. in der GFK-Haltung zu bleiben\, statt in alte Muster zu fallen\, wenn es eng wird. \nDieses Vertiefungs-Training ist für Sie geeignet\, wenn Sie\n\nbereits an einer Einführung in die Gewaltfreie Kommunikation teilgenommen haben\nsich wünschen\, flexibler\, freier und souveräner in der Sprache zu werden und mit schwierigen Situationen besser umgehen zu können\ndas Gefühl haben\, Ihnen fehlt noch die Flexibilität und Sicherheit\nIhre Fähigkeiten und Kenntnisse vertiefen und festigen möchten\nsich zwei Tage zur persönlichen Entwicklung gönnen wollen\n\nDas gemeinsame Ausprobieren und Üben stehen im Fokus. Mit Übungen\, Rollenspielen und eigenen Beispielen werden Sie die Gewaltfreie Kommunikation praxisorientiert erleben\, um sie so mehr und mehr in den beruflichen Alltag zu integrieren. \nFörderprogramm Fachkurse\nFür dieses Seminar können Teilnehmende mit Wohn- oder Arbeitsort in Baden-Württemberg eine Förderung bis zu 70% der Seminargebühr erhalten. Außerdem kann Bildungsurlaub beantragt werden.
URL:https://www.gfk-info.de/seminar/gfk-im-beruflichen-miteinander-leben-und-umsetzen-bildungsurlaub-2/
LOCATION:Odenwald-Institut\, Tromm 25\, Wald-Michelbach\, 69483
CATEGORIES:Bildungsurlaub,Vertiefungsseminar
ATTACH;FMTTYPE=image/jpeg:https://www.gfk-info.de/wp-content/uploads/2025/01/Odenwald-Trommturm--scaled.jpg
ORGANIZER;CN="K%C3%B6nig%2C Kerstin":MAILTO:kerstin.koenig@echt-sein.de
GEO:49.6013191;8.8142731
X-APPLE-STRUCTURED-LOCATION;VALUE=URI;X-ADDRESS=Odenwald-Institut Tromm 25 Wald-Michelbach 69483;X-APPLE-RADIUS=500;X-TITLE=Tromm 25:geo:8.8142731,49.6013191
END:VEVENT
BEGIN:VEVENT
DTSTART;VALUE=DATE:20260926
DTEND;VALUE=DATE:20260927
DTSTAMP:20260422T161419
CREATED:20260309T101153Z
LAST-MODIFIED:20260309T102318Z
UID:10011374-1790380800-1790467199@www.gfk-info.de
SUMMARY:GFK-Tag Mainz: Zukunft entsteht\, wo wir verbunden bleiben.
DESCRIPTION:GFK-TAG IN MAINZ AM 26. SEPTEMBER 2026 \nEin Tag voller Begegnung\, Inspiration und gelebter Gewaltfreier Kommunikation. \nBeim GFK-Tag in Mainz kommen Menschen aus der Region zusammen\, um Gewaltfreie Kommunikation zu erleben\, zu vertiefen und miteinander in Verbindung zu gehen. Dich erwartet ein vielfältiges Programm mit Workshops von unterschiedlichen Trainer*innen zu ganz verschiedenen Themen rund um GFK. \nDu kannst dir deine Workshops selbst zusammenstellen\, neue Impulse entdecken\, Trainer*innen kennenlernen und Kontakte in der Region knüpfen. Vielleicht ist es auch der Moment\, Teil des GFK-Netzwerks Mainz-Wiesbaden zu werden. \nNeben all den inhaltlichen Angeboten gehört auch das gemeinsame Erleben dazu: ein leckeres Mittagessen\, Zeit für Austausch und ein Tag\, an dem du GFK nicht nur hörst – sondern spüren\, schnuppern und leben kannst. \nWir laden dich herzlich ein\, diesen besonderen Tag mit uns zu verbringen. \nThema des Tages: Zukunft entsteht\, wo wir verbunden bleiben.\nWandel bringt Reibung. Und manchmal Risse – im außen und zwischen uns. Kintsugi zeigt\, was dann zählt: nicht Perfektion\, sondern Verbindung.\nBeziehungskraft ist die Fähigkeit\, auch inter Druck in Kontakt zu bleiben: Konflikte so zu führen\, dass Würde\, Klarheit und Zusammenarbeit möglich bleiben. \nGewaltfreie Kommunikation stärkt genau diese Fähigkeit: im Kontakt bleiben\, wenn’s schwierig wird\, Unterschiede aushalten\, ohne abzuwerten\, Reparatur möglich machen\, ohne Schuld zu verteilen. So wird Beziehungskraft zu einer Zukunftskompetenz.\nDie Zukunft beginnt in Beziehung – Beziehungskraft als Future Skill.\nEgal\, ob du GFK gerade erst entdeckst oder schon Fortgeschrittene:r bist – hier ist für alle etwas dabei.\nKlingt spannend? Dann sei dabei und verbringe einen inspirierenden Tag mit Menschen\, die wirksam sein wollen– wir freuen uns auf dich! \nWeitere Informationen und anmelden unter: https://www.gfk-mainz-wiesbaden.de/gfk-tag-mainz/
URL:https://www.gfk-info.de/seminar/gfk-tag-mainz-zukunft-entsteht-wo-wir-verbunden-bleiben-beziehungskraft-die-traegt/
LOCATION:VHS Mainz\, Karmeliterplatz 1/1\, Mainz\, 55116\, Deutschland
CATEGORIES:GFK-Tag
ATTACH;FMTTYPE=image/jpeg:https://www.gfk-info.de/wp-content/uploads/2026/03/save_the_date-1.jpg
ORGANIZER;CN="Netzwerk Mainz-Wiesbaden":MAILTO:netzwerk@mainz-wiesbaden.de
GEO:50.0025053;8.2725047
X-APPLE-STRUCTURED-LOCATION;VALUE=URI;X-ADDRESS=VHS Mainz Karmeliterplatz 1/1 Mainz 55116 Deutschland;X-APPLE-RADIUS=500;X-TITLE=Karmeliterplatz 1/1:geo:8.2725047,50.0025053
END:VEVENT
END:VCALENDAR