BEGIN:VCALENDAR
VERSION:2.0
PRODID:-//Gewaltfreie Kommunikation - ECPv6.15.20//NONSGML v1.0//EN
CALSCALE:GREGORIAN
METHOD:PUBLISH
X-ORIGINAL-URL:https://www.gfk-info.de
X-WR-CALDESC:Veranstaltungen für Gewaltfreie Kommunikation
REFRESH-INTERVAL;VALUE=DURATION:PT1H
X-Robots-Tag:noindex
X-PUBLISHED-TTL:PT1H
BEGIN:VTIMEZONE
TZID:Europe/Berlin
BEGIN:DAYLIGHT
TZOFFSETFROM:+0100
TZOFFSETTO:+0200
TZNAME:CEST
DTSTART:20240331T010000
END:DAYLIGHT
BEGIN:STANDARD
TZOFFSETFROM:+0200
TZOFFSETTO:+0100
TZNAME:CET
DTSTART:20241027T010000
END:STANDARD
BEGIN:DAYLIGHT
TZOFFSETFROM:+0100
TZOFFSETTO:+0200
TZNAME:CEST
DTSTART:20250330T010000
END:DAYLIGHT
BEGIN:STANDARD
TZOFFSETFROM:+0200
TZOFFSETTO:+0100
TZNAME:CET
DTSTART:20251026T010000
END:STANDARD
BEGIN:DAYLIGHT
TZOFFSETFROM:+0100
TZOFFSETTO:+0200
TZNAME:CEST
DTSTART:20260329T010000
END:DAYLIGHT
BEGIN:STANDARD
TZOFFSETFROM:+0200
TZOFFSETTO:+0100
TZNAME:CET
DTSTART:20261025T010000
END:STANDARD
END:VTIMEZONE
BEGIN:VEVENT
DTSTART;TZID=Europe/Berlin:20251121T160000
DTEND;TZID=Europe/Berlin:20251121T190000
DTSTAMP:20260421T122743
CREATED:20250816T110223Z
LAST-MODIFIED:20251107T185410Z
UID:10009184-1763740800-1763751600@www.gfk-info.de
SUMMARY:Gewaltfreie Kommunikation (GFK) Jahresausbildung in Leipzig beginnt
DESCRIPTION:Gewaltfreie Kommunikation (GFK) intensiv lernen in einer festen Gruppe und in vertrauter Atmosphäre ist Ziel dieser Ausbildung. Dabei wird neben theoretischen Inputs insbesondere Wert auf Selbsterfahrung und Übungen zur Transformation der inneren Haltung gelegt\, sodass GFK nicht nur verstanden\, sondern vor allem auch gelebt werden kann.  \nIch gebe in den Seminaren das Herzstück meiner Lieblingsübungen und Theorieinputs aus über zehnjähriger Erfahrung weiter. Zusätzlich zu den Ausbildungstagen in der Gruppe wird es Einzeltermine für alle Teilnehmenden geben\, in denen Gelerntes reflektiert\, hinterfragt und geübt werden kann. Dies soll einen intensiven Lernprozess fördern\, der sehr individuell unterstützt wird. \nInhalt der Seminartermine:  \n1. Eintauchen in GFK als Haltung:\nAnkommen in der Gruppe\, Einführung in GFK als Haltung\, Dem Fühlen näher kommen\, Empathie schenken und bekommen \n2. Selbstempathie Vertiefung I:\nTrigger und Projektionen\, Innere*r Richter*in (innere Urteile selbstempathisch bearbeiten)\, Vom Bedürfnis zur Strategie\, Klare Bitten stellen \n3. Selbstempathie Vertiefung II:\nKlarheit gewinnen und Empowerment zum Gefühl „Scham“\, GFK mit dem Inneren Kind \n4. Empathie in Konflikten:\nGFK in Konflikten und herausfordernden Situationen\, Wut in GFK audrücken \n5. GFK in die Welt tragen:\nEigene Träume wertschätzen\, Bewusstsein und Kontakt zur eigenen Umwelt vertiefen\, Kreative und Instrumentelle Macht\, GFK und sozialer Wandel\n6. GFK verankern zum Weiterziehen:\nEntscheidungen treffen mit GFK\, Intensivierung und Stärkung der GFK-Haltung mit Embodiment und Priming (nach Zürcher Ressourcen Modell)\, Abschluss feiern \n  \nZielgruppe: Alle\, die GFK kennengelernt haben und sie intensiv in ihren Alltag und die berufliche Praxis integrieren möchten. \nVoraussetzungen: Teilnahme an einer Einführung in die GFK und nach Absprache. \nWer noch keine Vorerfahrung in GFK hat\, kann sich gern melden. \nZeitraum: 6 Gruppentermine November 2025 – November 2026 jeweils Freitag-Samstag\, \nsowie 5 Einzeltermine für empathische Begleitung/Coaching zwischen den Gruppenterminen. \nEmpathiegruppenbildung unter den Teilnehmenden für Treffen zwischen den Seminaren wird unterstützt. \nvoraussichtliche Gruppen-Termine: \njeweils Freitag 16-19 Uhr und Samstag 10-17:30 Uhr \n21./22.11.25 \n 30.1./31.1.26 \n 27./28.3.26 \n 5./6.6.26 \n 28./29.8.26 \n 6./7.11.26  \nOrt: Leipzig\, eigene Praxis „Der Kokon“ schön gelegen im Leipziger Süden \nDie 60-Minütigen Einzeltermine können auf Wunsch (z.B. bei weiter Entfernung) online stattfinden. \nKosten: 1600 – 2000 € (Diejenigen\, die den Höchstpreis zahlen\, unterstützen diejenigen\, die es schwer haben das Geld aufzubringen. Du wählst selbst\, wie viel du zahlst.) \nZertifizierung: Teilnehmende erhalten ein Zertifikat; es werden 12 Tage Ausbildung für die Trainer*innen-Ausbildung des CNVC anerkannt. \nwww.paulaherwig.de \nPS: Im Moment ist noch ein Platz frei. Melde dich gern bei mir\, um spontan noch einzusteigen.
URL:https://www.gfk-info.de/seminar/gewaltfreie-kommunikation-gfk-jahresausbildung-in-leipzig-beginnt/
LOCATION:Der Kokon – Praxis für Wahrnehmung\, Wertschätzung und Wandel (Paula J. Herwig)\, Windscheidstr. 27\, Leipzig\, 04277\, Deutschland
CATEGORIES:Ausbildung / Jahrestraining,Intensiv Training
ATTACH;FMTTYPE=image/jpeg:https://www.gfk-info.de/wp-content/uploads/2025/08/Paula-Bild-1.jpg
ORGANIZER;CN="Herwig%2C Paula J.":MAILTO:info@paulaherwig.de
GEO:51.3116398;12.3691686
X-APPLE-STRUCTURED-LOCATION;VALUE=URI;X-ADDRESS=Der Kokon – Praxis für Wahrnehmung Wertschätzung und Wandel (Paula J. Herwig) Windscheidstr. 27 Leipzig 04277 Deutschland;X-APPLE-RADIUS=500;X-TITLE=Windscheidstr. 27:geo:12.3691686,51.3116398
END:VEVENT
END:VCALENDAR