BEGIN:VCALENDAR
VERSION:2.0
PRODID:-//Gewaltfreie Kommunikation - ECPv6.15.20//NONSGML v1.0//EN
CALSCALE:GREGORIAN
METHOD:PUBLISH
X-WR-CALNAME:Gewaltfreie Kommunikation
X-ORIGINAL-URL:https://www.gfk-info.de
X-WR-CALDESC:Veranstaltungen für Gewaltfreie Kommunikation
REFRESH-INTERVAL;VALUE=DURATION:PT1H
X-Robots-Tag:noindex
X-PUBLISHED-TTL:PT1H
BEGIN:VTIMEZONE
TZID:Europe/Berlin
BEGIN:DAYLIGHT
TZOFFSETFROM:+0100
TZOFFSETTO:+0200
TZNAME:CEST
DTSTART:20250330T010000
END:DAYLIGHT
BEGIN:STANDARD
TZOFFSETFROM:+0200
TZOFFSETTO:+0100
TZNAME:CET
DTSTART:20251026T010000
END:STANDARD
BEGIN:DAYLIGHT
TZOFFSETFROM:+0100
TZOFFSETTO:+0200
TZNAME:CEST
DTSTART:20260329T010000
END:DAYLIGHT
BEGIN:STANDARD
TZOFFSETFROM:+0200
TZOFFSETTO:+0100
TZNAME:CET
DTSTART:20261025T010000
END:STANDARD
BEGIN:DAYLIGHT
TZOFFSETFROM:+0100
TZOFFSETTO:+0200
TZNAME:CEST
DTSTART:20270328T010000
END:DAYLIGHT
BEGIN:STANDARD
TZOFFSETFROM:+0200
TZOFFSETTO:+0100
TZNAME:CET
DTSTART:20271031T010000
END:STANDARD
END:VTIMEZONE
BEGIN:VEVENT
DTSTART;TZID=Europe/Berlin:20260203T190000
DTEND;TZID=Europe/Berlin:20260602T210000
DTSTAMP:20260421T083118
CREATED:20251204T225351Z
LAST-MODIFIED:20251204T230037Z
UID:10010844-1770145200-1780434000@www.gfk-info.de
SUMMARY:GFK-Dienstagsclub. Jeden 1. Dienstag im Monat
DESCRIPTION:5 Termine im 1.Halbjahr 2026 am 1. Dienstag im Monat in Präsenz:\nDienstag\, 03.02\, 03.03.\, 07.04.\, 05.05. und 02.06. 26 (19.00 – 21.00 Uhr) \nWir alle kennen das Gefühl\, wenn wir aneinander vorbeireden und den Eindruck haben\, dass der andere uns einfach nicht versteht. Wünschen auch Sie sich eine Alternative\, wie Sie Ihr Anliegen ausdrücken und in eine konstruktive Richtung lenken können? Was befähigt uns\, vertrauensvoll\, aufrichtig und empathisch miteinander umzugehen? \nDie Übungsgruppe bietet dazu einen sicheren Rahmen\, um die eigenen Gedanken\, Gefühle und Bedürfnisse ehrlich zu erkennen\, selbst wenn das innere Erleben noch so turbulent ist. \nWir treffen uns dienstags in einer festen Gruppe\, um die Haltung der GFK zu üben\, zu vertiefen und „alltagstauglich“ zu machen. \nAls berufliches Weiterbildungsangebot anerkannt\, besonders für Berufsgruppen mit sozialen\, pädagogischen und leitenden Aufgaben mit dem Ziel: Kompetenz in Kommunikationsprozessen. \n 
URL:https://www.gfk-info.de/seminar/gfk-dienstagsclub-jeden-1-dienstag-im-monat/
LOCATION:Seminar- und Lernort „Nackte Mühle“ in Osnabrück\, Östringerweg 18\, Osnabrück\, Niedersachsen\, 49090\, Deutschland
CATEGORIES:GFK Übungsgruppe mit anerkannter oder zertifizierter Trainer:in
ATTACH;FMTTYPE=image/jpeg:https://www.gfk-info.de/wp-content/uploads/2025/12/K9A0420-1-scaled.jpg
ORGANIZER;CN="Coers%2C Claudia":MAILTO:info@yogaforum-osnabrueck.de
GEO:52.3081022;8.0522537
X-APPLE-STRUCTURED-LOCATION;VALUE=URI;X-ADDRESS=Seminar- und Lernort „Nackte Mühle“ in Osnabrück Östringerweg 18 Osnabrück Niedersachsen 49090 Deutschland;X-APPLE-RADIUS=500;X-TITLE=Östringerweg 18:geo:8.0522537,52.3081022
END:VEVENT
BEGIN:VEVENT
DTSTART;TZID=Europe/Berlin:20260424T100000
DTEND;TZID=Europe/Berlin:20261121T180000
DTSTAMP:20260421T083118
CREATED:20231128T230517Z
LAST-MODIFIED:20251204T221232Z
UID:10005303-1777024800-1795284000@www.gfk-info.de
SUMMARY:Ausbildung in Gewaltfreier Kommunikation 2026. Zertifizierte Basisausbildung nach Marshall B. Rosenberg
DESCRIPTION:Ab 24.April bis 21.November 2026 in der KLVHS in Oesede bei Osnabrück\nDer Einstieg ist möglich bis Modul 2\, 19.-20. Juni 26\n5 Module Fr./Sa. jeweils 10.00 – 18.00 Uhr und eine Woche Bildungsurlaub  \nIn der Basisausbildung wird vermittelt\, dass die Gewaltfreie Kommunikation (GFK) weniger eine „Kommunikationsmethode“ als vielmehr ein Prozess der Persönlichkeits- und Bewusstseinsentwicklung ist. Die innere Grundhaltung der GFK zu entwickeln heißt\, eine umfassende empathische Haltung mit sich und anderen zu erlernen. Die Grundlage dafür ist der ehrliche Kontakt zu Gefühlen und Bedürfnissen sowie das Übernehmen von Selbstverantwortung.\nGewaltfrei heißt nicht „nett“\, sondern aus einer wertschätzenden Haltung heraus authentisch und klar zu kommunizieren. \nDie Ausbildung findet gemeinsam mit dem Co-Trainern Thomas Streipert statt. In Kooperation mit ORCA-Training für GFK\, Mediation und Teamentwicklung. Veranstalter ist die EEB in Osnabrück. \nWeitere Infos und zur Anmeldung \n 
URL:https://www.gfk-info.de/seminar/ausbildung-in-gewaltfreier-kommunikation-2024-zertifizierte-basisausbildung-nach-marshall-b-rosenberg/
LOCATION:Katholische LandvolkHochschule\, Gartbrink 5\, 49124 Georgsmarienhütte\, 49124
CATEGORIES:Ausbildung / Jahrestraining,Einführung
ATTACH;FMTTYPE=image/jpeg:https://www.gfk-info.de/wp-content/uploads/2023/11/Claudia-Coers-und-Thomas-Streipert-1.jpg
ORGANIZER;CN="Coers%2C Claudia":MAILTO:info@yogaforum-osnabrueck.de
GEO:52.2100494;8.0728952
X-APPLE-STRUCTURED-LOCATION;VALUE=URI;X-ADDRESS=Katholische LandvolkHochschule Gartbrink 5 49124 Georgsmarienhütte 49124;X-APPLE-RADIUS=500;X-TITLE=Gartbrink 5:geo:8.0728952,52.2100494
END:VEVENT
BEGIN:VEVENT
DTSTART;TZID=Europe/Berlin:20260713T160000
DTEND;TZID=Europe/Berlin:20260717T123000
DTSTAMP:20260421T083118
CREATED:20220119T160823Z
LAST-MODIFIED:20251009T135315Z
UID:10001128-1783958400-1784291400@www.gfk-info.de
SUMMARY:5 Tage anerkannter GFK-Bildungsurlaub (Vertiefung)- Ein Training für neue Sichtweisen und Ressourcen
DESCRIPTION:„Es menschelt überall“ -kein Wunder\, denn genau das sind wir alle- Menschen. Wenn es im Alltag stressig wird\, wir uns nicht gehört und verstanden fühlen\, vergessen wir das\, sind angespannt und gereizt. Leicht geht die Zuwendung und Empathie verloren. Wir fühlen uns unwohl und entmutigt. \nWie wäre es\, wenn die Zusammenarbeit auf Beobachtung basieren könnte\, statt auf Bewertung und Deutung? Auf Motivation statt Forderung? \nTauchen Sie in dieser Bildungswoche vom 13. – 17. Juli 2026 auf Norderney in eine neue innere und äußere Haltung\, die Sie auch in fordernden Situationen ermutigt und handlungsfähig bleiben lässt. \nDie Basis ist hierfür die Haltung der GFK nach Marshall B. Rosenberg sowie Living Compassion nach Robert Gonzales. \nMontag\, 13. Juli\, 16.00 Uhr – Freitag\, 17. Juli 2026\, 12.30 Uhr \nGebühr: 480\,00€ TN Gebühr + 233\,00€ Übernachtung EZ + 95\,00€ VP + Kurtaxe vor Ort \nWeitere Infos und zur Anmeldung
URL:https://www.gfk-info.de/seminar/gfk-einfuehrung-2-2-2-2-2/
LOCATION:Jugendherberge Norderney\, 26548 Norderney/Nordsee\, Am Dünensender 3\, 26548 Norderney\, 26548\, Deutschland
CATEGORIES:Bildungsurlaub,GFK am Arbeitsplatz,Intensiv Training
ATTACH;FMTTYPE=image/jpeg:https://www.gfk-info.de/wp-content/uploads/2022/01/Foto-jae-bano-unsplash-Meer-1-scaled.jpg
ORGANIZER;CN="Coers%2C Claudia":MAILTO:info@yogaforum-osnabrueck.de
GEO:52.5297388;8.1771239
X-APPLE-STRUCTURED-LOCATION;VALUE=URI;X-ADDRESS=Jugendherberge Norderney 26548 Norderney/Nordsee Am Dünensender 3 26548 Norderney 26548 Deutschland;X-APPLE-RADIUS=500;X-TITLE=Am Dünensender 3:geo:8.1771239,52.5297388
END:VEVENT
END:VCALENDAR