BEGIN:VCALENDAR
VERSION:2.0
PRODID:-//Gewaltfreie Kommunikation - ECPv6.15.20//NONSGML v1.0//EN
CALSCALE:GREGORIAN
METHOD:PUBLISH
X-WR-CALNAME:Gewaltfreie Kommunikation
X-ORIGINAL-URL:https://www.gfk-info.de
X-WR-CALDESC:Veranstaltungen für Gewaltfreie Kommunikation
REFRESH-INTERVAL;VALUE=DURATION:PT1H
X-Robots-Tag:noindex
X-PUBLISHED-TTL:PT1H
BEGIN:VTIMEZONE
TZID:Europe/Berlin
BEGIN:DAYLIGHT
TZOFFSETFROM:+0100
TZOFFSETTO:+0200
TZNAME:CEST
DTSTART:20250330T010000
END:DAYLIGHT
BEGIN:STANDARD
TZOFFSETFROM:+0200
TZOFFSETTO:+0100
TZNAME:CET
DTSTART:20251026T010000
END:STANDARD
BEGIN:DAYLIGHT
TZOFFSETFROM:+0100
TZOFFSETTO:+0200
TZNAME:CEST
DTSTART:20260329T010000
END:DAYLIGHT
BEGIN:STANDARD
TZOFFSETFROM:+0200
TZOFFSETTO:+0100
TZNAME:CET
DTSTART:20261025T010000
END:STANDARD
BEGIN:DAYLIGHT
TZOFFSETFROM:+0100
TZOFFSETTO:+0200
TZNAME:CEST
DTSTART:20270328T010000
END:DAYLIGHT
BEGIN:STANDARD
TZOFFSETFROM:+0200
TZOFFSETTO:+0100
TZNAME:CET
DTSTART:20271031T010000
END:STANDARD
END:VTIMEZONE
BEGIN:VEVENT
DTSTART;VALUE=DATE:20260213
DTEND;VALUE=DATE:20261115
DTSTAMP:20260420T210516
CREATED:20251112T080030Z
LAST-MODIFIED:20251112T080223Z
UID:10010674-1770940800-1794700799@www.gfk-info.de
SUMMARY:GFK im Kollaps – online Jahresgruppe
DESCRIPTION:GFK im Kollaps\n10 mal Freitag Abend und Samstag ab 13.02.2026 \nKriege\, Klimakollaps\, kollabierende Sozialesysteme. Wie navigierst du diese aufwühlende Zeit? \nBist du manchmal alleine damit\, dass du siehst\, dass wir uns bereits im Zusammenbruch befinden? Ahnst du\, dass Gewaltfreie Kommunikation dir helfen kann\, menschlich zu bleiben\, deine Lebendigkeit zu spüren und Alternativen aufzubauen? Dann ist diese Gruppe genau für dich. \nInhalte dieser Jahresgruppe: \n\nradikale Selbstannahme\, Lebendigkeit und Ehrlichkeit\nstarke Emotionen empathisch begleiten\nschwierige Gespräche führen (z.B. mit anders denkenden)\ntragfähige Gruppen und Teams gestalten\, um gemeinsam Unmögliches zu wuppen\nindividuelles und gesellschaftliches Trauma erkennen\, verstehen und halten\nDekolonisierung\nMachtstrukturen erkennen und verändern\nDeeskalation und Gemeinschaftsschutz\ndeinen individuellen Weg und Umgang mit den Krisen finden\ndiesen großen Umbruch bewusst miterleben und\nLebensfreude als revolutionären Akt\n\nTermine 2026\nJeder 2. Samstag in den Monaten Februar bis November 2026\, plus die Freitag Abende davor als Empathieabende\, plus jeweils einen Übungsabend bzw. Demoprozess zwischen den Modulen (dafür werden die Termine noch bekanntgegeben). Achtung: im April ist es der dritte Samstag\, nicht der zweite. \nSa. 14.02. 10:00 – 18:00\nSa. 14.03. 10:00 – 18:00\nSa. 18.04. 10:00 – 18:00\nSa. 09.05. 10:00 – 18:00\nSa. 13.06. 10:00 – 18:00\nSa. 11.07. 10:00 – 18:00\nSa. 08.08. 10:00 – 18:00\nSa. 12.09. 10:00 – 18:00\nSa. 10.10. 10:00 – 18:00\nSa. 14.11. 10:00 – 18:00 \nDie Freitag Abende davor finden jeweils von 18:00-20:00 statt. Wir treffen uns Freitags und Samstags online auf Zoom. \nIm Laufe des Jahres wirst du zusätzlich in kleineren Bezugsgruppen zwischen den Modulen die Gelegenheit zum weiteren Üben haben. Wir werden auch eine Signal-Gruppe für Empathie-Support einrichten. \nDie Seminartage sind eine Mischung aus Input und Übungen\, z.T. in Kleingruppen oder alleine\, mit Platz für Fragen und Austausch. \nDiese Jahresgruppe eignet sich als Baustein für den Zertifizierungsprozess zum Trainer / zur Trainerin für Gewaltfreie Kommunikation. (10 Ausbildungstage) \nDer Jahreskurs richtet sich an Menschen\, die bereits vertiefte Vorerfahrung mit der GFK gesammelt haben (mindestens 5 Seminartage oder vergleichbare Erfahrung). Die Auseinandersetzung mit eigenen Themen und die gegenseitige Begleitung dabei ist ein wesentlicher Bestandteil des Kurses. \nUnverbindlicher Infoabend:\nOnline: Fr. 16.01.2026 18:00-19:00 – bitte Anmelden \nSchenkökonomie\nBei Anmeldung bitte ich um eine Anmeldegebühr von 200 €. \nDu entscheidest selbst\, wie viel du darüber hinaus zahlst. Die Anmeldegebühr kannst du auch zurück bekommen\, wenn du zu den Terminen erscheinst. \nFragen zur Jahresgruppe und Anmeldung gerne per Email: Seminare AT evaebenhoeh.de
URL:https://www.gfk-info.de/seminar/gfk-im-kollaps-online-jahresgruppe/
LOCATION:online
CATEGORIES:Ausbildung / Jahrestraining,Video-Online Seminar
ATTACH;FMTTYPE=image/jpeg:https://www.gfk-info.de/wp-content/uploads/2025/11/Nebel300px.jpg
ORGANIZER;CN="Ebenh%C3%B6h%2C Eva":MAILTO:mail@evaebenhoeh.de
GEO:51.165691;10.451526
END:VEVENT
BEGIN:VEVENT
DTSTART;VALUE=DATE:20260910
DTEND;VALUE=DATE:20260913
DTSTAMP:20260420T210516
CREATED:20251124T112051Z
LAST-MODIFIED:20260402T095743Z
UID:10010700-1788998400-1789257599@www.gfk-info.de
SUMMARY:Grundausbildung/ Intensivtraining Gewaltfreie Kommunikation nach Marshall B. Rosenberg in 5 Modulen
DESCRIPTION:Marshall B. Rosenberg entwickelte Anfang der 60er Jahre die Gewaltfreie Kommunikation. Er suchte nach einer Art des Miteinanders\, in der Menschen volle Verantwortung für ihre Gedanken und Worte übernehmen und die unbewusste Gewalt in unserer Kommunikation durch eine friedliche Alternative ersetzt wird. Seine Vision war eine Welt\, in der Konflikte friedlich gelöst werden und in der die Bedürfnisse aller Menschen zählen. \nWeit über Worte hinaus trainiert Gewaltfreie Kommunikation eine Haltung von Wertschätzung. Ein Schlüssel hierfür ist die Orientierung an Bedürfnissen: Wenn wir unsere Aufmerksamkeit statt auf Bewertungen (wer macht was falsch?) auf unsere Werte (was ist uns wichtig?) verschieben\, entsteht Offenheit. Wir können uns zuhören\, andere wirklich verstehen und verstanden werden. \nWenn wir es schaffen uns an Bedürfnissen zu orientieren\, verlieren Konflikte ihren Schrecken. Wir können Konflikten gelassener entgegensehen und sie als Chance verstehen\, einander Verständnis entgegenzubringen. Mit einer Haltung von Gewaltfreiheit und Wertschätzung kann sich Spannung schneller auflösen und wir können mitfühlend mit uns selbst und anderen in Kontakt kommen. Es entsteht die Freiheit und Verbindung\, die wir uns in Konflikten oft so sehr wünschen. \nGerne begleiten wir dich beim Lernen der Gewaltfreien Kommunikation und Haltung. \n  \nUnsere Ziele im Training der Gewaltfreien Kommunikation sind \ndie Fähigkeit zu entwickeln\, die eigenen Gefühle und Bedürfnisse und die unserer Mitmenschen besser wahrnehmen und kommunizieren zu können\,\nsich selber kennen zu lernen und mit sich selber in Frieden zu kommen\, als eine wichtige Voraussetzung für eine wertschätzende und zufriedenstellende Begegnung mit anderen Menschen\,\nMenschen zu einem kreativen Dialog zu befähigen\, um für die eigenen Bedürfnisse und die des Gegenübers konstruktive Lösungen zu finden\,\nkreative und nachhaltige Handlungsalternativen zur Lösung gesellschaftlicher Probleme im eigenen Wirkungsbereich zu entwickeln und zum sozialen Wandel beizutragen und\nUnterstützung im Erkenntnisprozess zu geben\, dass Mensch und Umwelt wechselseitig voneinander abhängig und miteinander verbunden sind.\nUnsere Grundausbildung der Gewaltfreien Kommunikation hat einen Aufbau über 5 Module\, jeweils von Donnerstag bis Samstag. Die Ausbildung beginnt im März 2026 und endet im Juli 2026. Die 15 Trainingstage werden bei der CNVC-Trainerzertifizierung anerkannt. Die beiden Trainerinnen werden alle 5 Module gemeinsam leiten. \nDie Grundausbildung richtet sich an alle Interessierte\, die bereits an einer GFK-Einführung teilgenommen haben. \nWir bieten im Vorfeld einen Online-Infoabend zur Ausbildung an. Du kannst an dem Abend das Trainerinnenteam kennenlernen und Fragen aller Art zum Ausbildungsinhalt stellen. Das Datum und den Anmeldelink findest du auf unserer Webseite in der Seminarbeschreibung. \nWir freuen uns auf dich! \n  \nTermine der Grundausbildung: \nModul 1: Donnerstag\, 10.09. bis Samstag\, 12.09.2026\nModul 2: Donnerstag\, 08.10. bis Samstag\, 10.10.2026\nModul 3: Donnerstag\, 19.11. bis Samstag\, 21.11.2026\nModul 4: Donnerstag\, 17.12. bis Samstag\, 19.12.2026\nModul 5: Donnerstag\, 21.01. bis Samstag\, 23.01.2027\njeweils 9:30 – 17:00 Uhr \n  \nKosten der Grundausbildung: \n1.700 Euro regulär\n1.600 Euro Frühbucherrabatt bei Buchung bis 10.06.2026\n1.300 Euro ermäßigter Teilnahmebeitrag nach Absprache für Geringverdienende
URL:https://www.gfk-info.de/seminar/grundausbildung-intensivtraining-gewaltfreie-kommunikation-nach-marshall-b-rosenberg-in-5-modulen/
LOCATION:Forum Demokratie Düsseldorf\, Himmelgeister Str. 107\, Düsseldorf\, Nordrhein-Westfalen\, 40225\, Deutschland
CATEGORIES:Ausbildung / Jahrestraining,Bildungsurlaub,Intensiv Training
ATTACH;FMTTYPE=image/jpeg:https://www.gfk-info.de/wp-content/uploads/2025/11/FDD-Irina-Christina.jpg
ORGANIZER;CN="Goesmann%2C Christina":MAILTO:gewaltfrei@forum-demokratie-duesseldorf.de
GEO:51.1987235;6.7793048
X-APPLE-STRUCTURED-LOCATION;VALUE=URI;X-ADDRESS=Forum Demokratie Düsseldorf Himmelgeister Str. 107 Düsseldorf Nordrhein-Westfalen 40225 Deutschland;X-APPLE-RADIUS=500;X-TITLE=Himmelgeister Str. 107:geo:6.7793048,51.1987235
END:VEVENT
BEGIN:VEVENT
DTSTART;VALUE=DATE:20260918
DTEND;VALUE=DATE:20260921
DTSTAMP:20260420T210516
CREATED:20170728T182858Z
LAST-MODIFIED:20251020T080713Z
UID:10000420-1789689600-1789948799@www.gfk-info.de
SUMMARY:Mediation in der Arbeitswelt – Mediationsausbildung auf der Basis der Gewaltfreien Kommunikation in Kassel 2026
DESCRIPTION:Ausbildung Mediation in der Arbeitswelt und im sozialen Umfeld\nnach den Richtlinien des Bundesverbandes Mediation e.V. und auf Grundlage des Mediationsgesetzes zum/zur zertifizierten Mediator/in (mit Zertifikat). \nSie erlernen die verschiedenen Aufgaben und Methoden der Mediation. Kommunikationsübungen\, Theorievermittlung\, Bearbeitung konkreter Konfliktsituationen\, Rollenspiele und Austausch werden die Grundlagen sein\, das eigene Kommunikations- und Konfliktverhalten kennen zu lernen und zu entwickeln.\nZunächst wird mit der Vermittlung zwischen zwei Konfliktparteien vertraut gemacht und darauf aufbauend befähigt\, Mediationen mit Gruppen und Teams durchzuführen.\nDiese Ausbildung von 210 Std. vermittelt das Konzept der klientenzentrierten Mediation auf der Basis der Gewaltfreien Kommunikation.\nDie kontinuierliche Zeitverteilung über ca. ein Jahr an sieben Wochenenden und zwei Wochenblöcken  gewährleistet eine hohe Qualität und Intensität. \nNach erfolgreicher Teilnahme bekommen die Teilnehmenden eine Bescheinigung über die Ausbildungsinhalte/-stunden und ein Abschlusszertifikat von der a.k.demie für Mediation und Training.\nDie Ausbildung erfüllt die Kriterien des Deutschen Mediationsgesetzes und entspricht der zum 1. März 2024 gültigen Novellierung der Ausbildungsverordnung zum Mediationsgesetz ZMediatAusbV. Diese ermöglicht Ihnen den Titel zertifizierte*r Mediator*in zu erlangen.\nVoraussetzung dafür ist u.a. eine mindestens 130-stündige Ausbildung und die Durchführung von fünf Mediationen\, die bis drei Jahre nach Abschluss der Ausbildung durchgeführt und supervidiert worden sind. (siehe ZMediatAusbV).\nNach individueller Absprache mit uns\, können diese 5 Mediationen auch während der Ausbildungszeit erfolgen.\nUnter bestimmten Voraussetzungen können durch diese Ausbildung im Sinne des § 3 der Verordnung über die Aus- und Fortbildung von zertifizierten Mediatoren (ZMediatAusbV) sogar 40 Zeitstunden der Fortbildungspflicht für die nächsten 4 Jahre abgedeckt werden.\nDie gesamte Ausbildung entspricht den in Europa üblichen Richtlinien\, in Deutschland z.B. vertreten durch den Bundesverband Mediation e.V. (BM). Die Ausbildung erfolgt nach den Standards und Ausbildungsrichtlinien des Bundesverbandes Mediation e.V. (BM). für lizenzierte Mediator*innen.\nZudem dient das Zertifikat als Nachweis einer vollständigen Ausbildung in Mediation\, wie sie für die Vergabe der Lizensierung als Mediator*in BM vom Bundesverband Mediation e.V. u.a. erforderlich ist. \nDie Wochenblöcke sind in Niedersachsen und in Hessen als Bildungsurlaub anerkannt. \n  \nDiese fachübergreifende Weiterbildung für alle Berufsgruppen ist eine Zusatzqualifikation für Personen\, die Mediation in ihrem Berufsfeld praktisch anwenden oder Mediation im privaten oder selbstständigen Bereich ausüben wollen. \n\n\n\n\nE \nEntscheidungswochenende:\n1. WE: 18.09.- 20.09.2026 \nTermine: \n2. WB: 02.11.- 06.11.2026\n3. WE: 04.12.- 06.12.2026\n4. WE: 15.01.- 17.01.2027\n5. WE: 12.02.- 14.02.2027\n6. WE: 09.04.- 11.04.2027\n7. WE: 28.05.- 30.05.2027\n8. WB: 21.06.- 25.06.2027\n9. WE: 03.09.- 05.09.2027 \n\n\n\n\n  \nFür die Wochenblöcke (WB) ist in Niedersachsen und Hessen Bildungsurlaub beantragt. \n  \nMehr Informationen zu Inhalten und Konditionen dieser und weiterer Ausbildungen sendet die a.k.demie Ihnen gerne auf Anfrage (telefonisch oder per E-Mail) zu. \nBesuchen Sie uns auf…unserer Webseite
URL:https://www.gfk-info.de/seminar/mediation-in-der-arbeitswelt-mediationsausbildung-auf-der-basis-der-gewaltfreien-kommunikation/
LOCATION:Stadtteilzentrum Kassel Vorderer Westen\, Elfbuchenstrasse 3\, Kassel\, Hessen\, 34119\, Deutschland
CATEGORIES:Ausbildung / Jahrestraining
ATTACH;FMTTYPE=image/jpeg:https://www.gfk-info.de/wp-content/uploads/2017/07/anjaef9f6132-1-scaled.jpg
ORGANIZER;CN="Kenzler%2C Anja":MAILTO:anjakenzler@a-k-demie.de
GEO:51.3165956;9.4674469
X-APPLE-STRUCTURED-LOCATION;VALUE=URI;X-ADDRESS=Stadtteilzentrum Kassel Vorderer Westen Elfbuchenstrasse 3 Kassel Hessen 34119 Deutschland;X-APPLE-RADIUS=500;X-TITLE=Elfbuchenstrasse 3:geo:9.4674469,51.3165956
END:VEVENT
BEGIN:VEVENT
DTSTART;TZID=Europe/Berlin:20261119T110000
DTEND;TZID=Europe/Berlin:20261121T180000
DTSTAMP:20260420T210516
CREATED:20251021T095951Z
LAST-MODIFIED:20260416T155432Z
UID:10010553-1795086000-1795284000@www.gfk-info.de
SUMMARY:Start Ausbildung Wertschätzende Kommunikation und Selbstführung 2026/ 27
DESCRIPTION:Wertschätzende Kommunikation – der Schlüssel zu bewusster (Selbst-)Führung\n(Selbst-)Führung bedeutet\, Beziehungen zu gestalten\, Spannungsfelder auszuhalten\, Orientierung zu geben – und präsent zu bleiben\, auch wenn es schwierig wird. \nDiese berufsbegleitende Ausbildung öffnet dir den Raum\, deine FührungsKraft von innen heraus zu entfalten: durch klare Kommunikation\, innere Klarheit und tieferes Verstehen. \nDu lernst\, Konflikte als Impulse für Entwicklung zu nutzen\, deine Sprache mit deiner Haltung in Einklang zu bringen – und auch tiefere Zusammenhänge zu erfassen: Mit dem integrativen Ansatz aus Gewaltfreier Kommunikation und systemischer Aufstellungsarbeit entsteht ein Lernfeld\, das Verstehen\, Verbinden und Verändern möglich macht. \nFür Menschen\, die Klarheit\, Tiefe und zugleich Leichtigkeit wollen.
URL:https://www.gfk-info.de/seminar/start-ausbildung-wertschaetzende-kommunikation-2026-27-vom-konflikt-zum-dialog/
LOCATION:Heilsame Präsenz\, Quellenhofweg 129\, Bielefeld\, 33617\, Deutschland
CATEGORIES:Ausbildung / Jahrestraining,GFK am Arbeitsplatz,Intensiv Training,Praxistraining
ORGANIZER;CN="Heunemann%2C Mirja":MAILTO:mail@mirjaheunemann.de
GEO:51.9988116;8.5358986
X-APPLE-STRUCTURED-LOCATION;VALUE=URI;X-ADDRESS=Heilsame Präsenz Quellenhofweg 129 Bielefeld 33617 Deutschland;X-APPLE-RADIUS=500;X-TITLE=Quellenhofweg 129:geo:8.5358986,51.9988116
END:VEVENT
END:VCALENDAR