BEGIN:VCALENDAR
VERSION:2.0
PRODID:-//Gewaltfreie Kommunikation - ECPv6.15.20//NONSGML v1.0//EN
CALSCALE:GREGORIAN
METHOD:PUBLISH
X-ORIGINAL-URL:https://www.gfk-info.de
X-WR-CALDESC:Veranstaltungen für Gewaltfreie Kommunikation
REFRESH-INTERVAL;VALUE=DURATION:PT1H
X-Robots-Tag:noindex
X-PUBLISHED-TTL:PT1H
BEGIN:VTIMEZONE
TZID:Europe/Berlin
BEGIN:DAYLIGHT
TZOFFSETFROM:+0100
TZOFFSETTO:+0200
TZNAME:CEST
DTSTART:20250330T010000
END:DAYLIGHT
BEGIN:STANDARD
TZOFFSETFROM:+0200
TZOFFSETTO:+0100
TZNAME:CET
DTSTART:20251026T010000
END:STANDARD
BEGIN:DAYLIGHT
TZOFFSETFROM:+0100
TZOFFSETTO:+0200
TZNAME:CEST
DTSTART:20260329T010000
END:DAYLIGHT
BEGIN:STANDARD
TZOFFSETFROM:+0200
TZOFFSETTO:+0100
TZNAME:CET
DTSTART:20261025T010000
END:STANDARD
BEGIN:DAYLIGHT
TZOFFSETFROM:+0100
TZOFFSETTO:+0200
TZNAME:CEST
DTSTART:20270328T010000
END:DAYLIGHT
BEGIN:STANDARD
TZOFFSETFROM:+0200
TZOFFSETTO:+0100
TZNAME:CET
DTSTART:20271031T010000
END:STANDARD
END:VTIMEZONE
BEGIN:VEVENT
DTSTART;TZID=Europe/Berlin:20260711T160000
DTEND;TZID=Europe/Berlin:20260711T180000
DTSTAMP:20260420T181007
CREATED:20250422T140456Z
LAST-MODIFIED:20260405T170733Z
UID:10008718-1783785600-1783792800@www.gfk-info.de
SUMMARY:Bewusst und erfüllt leben mit GFK - In Verbindung – bewusst\, empathisch\, lebendig mit Petra Porath @GFK-Workshoptage München-Trudering
DESCRIPTION:In diesem Workshop erforschen wir\, wie wir frei mitfließen können im Lebensstrom – durch achtsame Selbstwahrnehmung von Körper\, Atem und Gedanken. Empathie\, Perspektivwechsel\, gelebte Verantwortung\, sowie Haltung und Methode der Gewaltfreien Kommunikation unterstützen uns dabei\, die sechs Hauptlebensbereiche – Familie/Partnerschaft\, Beruf(ung)\, Gesundheit (physisch und psychisch)\, Freizeit\, Freunde/Gemeinschaft\, Spiritualität/Sinn – als Elemente eines lebendigen Ganzen zu erfahren.\nWie eine Bienenwabe ist alles miteinander verbunden: Jede Zelle stärkt das Ganze. So stärken Sie zugleich Ihre Resilienz – die Fähigkeit\, auch in herausfordernden Zeiten verbunden\, handlungsfähig und kraftvoll zu bleiben.\nPraktische Einzelübungen und empathischer Austausch eröffnen neue Handlungsspielräume. Sie gewinnen Klarheit\, entdecken innere Kraft- und Freude-Quellen und gestalten Beziehungen bewusster und erfüllter – denn:\n„Ich bin Leben\, inmitten von Leben\, das leben will.“ (Albert Schweitzer) \nIhre Trainerin: Petra Porath – Mediatorin BM®\, Trainerin Fachverband Gewaltfreie Kommunikation\, Mediatorin BM®\, Supervisorin (Steinbeis)\, Luna Yoga®-Lehrerin\, Bergwanderleiterin\, Diplomverwaltungswirtin\, Vorstandsmitglied Fachverband Gewaltfreie Kommunikation e.V. von Juni 2013 bis Oktober 2021; \nWo:\nKulturzentrum Trudering\nWasserburger Landstraße 32\n81825 München
URL:https://www.gfk-info.de/seminar/mit-vier-bewussten-schritten-herzen-oeffnen-mit-petra-porath-gfk-workshoptage-muenchen-trudering/
LOCATION:Baden Württemberg
CATEGORIES:Vortrag / Konferenz / Infoabend
ATTACH;FMTTYPE=image/jpeg:https://www.gfk-info.de/wp-content/uploads/2018/01/porath_petra-1.jpg
END:VEVENT
END:VCALENDAR