BEGIN:VCALENDAR
VERSION:2.0
PRODID:-//Gewaltfreie Kommunikation - ECPv6.15.20//NONSGML v1.0//EN
CALSCALE:GREGORIAN
METHOD:PUBLISH
X-ORIGINAL-URL:https://www.gfk-info.de
X-WR-CALDESC:Veranstaltungen für Gewaltfreie Kommunikation
REFRESH-INTERVAL;VALUE=DURATION:PT1H
X-Robots-Tag:noindex
X-PUBLISHED-TTL:PT1H
BEGIN:VTIMEZONE
TZID:Europe/Berlin
BEGIN:DAYLIGHT
TZOFFSETFROM:+0100
TZOFFSETTO:+0200
TZNAME:CEST
DTSTART:20250330T010000
END:DAYLIGHT
BEGIN:STANDARD
TZOFFSETFROM:+0200
TZOFFSETTO:+0100
TZNAME:CET
DTSTART:20251026T010000
END:STANDARD
BEGIN:DAYLIGHT
TZOFFSETFROM:+0100
TZOFFSETTO:+0200
TZNAME:CEST
DTSTART:20260329T010000
END:DAYLIGHT
BEGIN:STANDARD
TZOFFSETFROM:+0200
TZOFFSETTO:+0100
TZNAME:CET
DTSTART:20261025T010000
END:STANDARD
BEGIN:DAYLIGHT
TZOFFSETFROM:+0100
TZOFFSETTO:+0200
TZNAME:CEST
DTSTART:20270328T010000
END:DAYLIGHT
BEGIN:STANDARD
TZOFFSETFROM:+0200
TZOFFSETTO:+0100
TZNAME:CET
DTSTART:20271031T010000
END:STANDARD
END:VTIMEZONE
BEGIN:VEVENT
DTSTART;TZID=Europe/Berlin:20260619T180000
DTEND;TZID=Europe/Berlin:20260621T130000
DTSTAMP:20260420T051630
CREATED:20250409T104413Z
LAST-MODIFIED:20251014T093350Z
UID:10008643-1781892000-1782046800@www.gfk-info.de
SUMMARY:Paarseminar Lebendiges Miteinander
DESCRIPTION:Ein Paarseminar\, um aktiv in Verbindung zu kommen\nMöchten Sie Ihre Beziehung vertiefen und voller Lebendigkeit gestalten? Manchmal hakt die Kommunikation\, aus Mißverständnissen werden Konflikte\, Unausgesprochenes sorgt für Spannung. Mit der Gewaltfreien Kommunikation von Marshall Rosenberg lernen Sie eine Methode kennen\, mit der Sie auch in schwierigen Situationen in Verbindung bleiben können. Sie üben\, mit dem Herzen zu hören\, Ihre Bedürfnisse zu erkennen und Ihre Wünsche klar zu äußern – jenseits von Schuldzuweisungen oder Vorwürfen.\nDas Seminar kombiniert theoretische Inputs und Übungen  mit aktiven Natur-Elementen.\nDann heißt es: raus aus dem Kopf\, rein in die Bewegung! Kleine Abenteuer zu zweit und in der Gruppe machen Spaß und lösen Festgefahrenes. Genießen Sie den Wechsel von Tiefe und Leichtigkeit und laden Sie den Paar-Akku wieder auf!\nBesondere Sportlichkeit ist nicht nötig. \nTeilnehmerzahl: 6-12 TN \n 
URL:https://www.gfk-info.de/seminar/http-www-abkona-de-gewaltfreie-kommunikation-uebungsgruppe-html-2-2-2-2022-03-12-3-3-2-2-2/
LOCATION:Bad Heiligenstadt\, Bildungshaus Marcel Callo\, Bad Heiligenstadt\, Thüringen\, 37308\, Deutschland
CATEGORIES:Einführung
ATTACH;FMTTYPE=image/jpeg:https://www.gfk-info.de/wp-content/uploads/2025/04/Profil-Edith-700-Kopie.jpg
ORGANIZER;CN="Albertz%2C Edith":MAILTO:info@abkona.de
GEO:51.3770297;10.1439107
X-APPLE-STRUCTURED-LOCATION;VALUE=URI;X-ADDRESS=Bad Heiligenstadt Bildungshaus Marcel Callo Bad Heiligenstadt Thüringen 37308 Deutschland;X-APPLE-RADIUS=500;X-TITLE=Bildungshaus Marcel Callo:geo:10.1439107,51.3770297
END:VEVENT
BEGIN:VEVENT
DTSTART;TZID=Europe/Berlin:20260824T131500
DTEND;TZID=Europe/Berlin:20260828T133000
DTSTAMP:20260420T051630
CREATED:20260118T140758Z
LAST-MODIFIED:20260419T092237Z
UID:10011014-1787577300-1787923800@www.gfk-info.de
SUMMARY:Intensivbasiskurs GFK (Mo – Fr) im August – Bildungsurlaub möglich
DESCRIPTION:Vorkenntnisse nicht erforderlich. Auf Grund des hohen Übungsanteils auch für „fortgeschrittene“ Teilnehmer(innen) geeignet. – 5tägige Ausbildung in Gewaltfreier Kommunikation (in einer Woche). \nAls Veranstaltung für einen Bildungsurlaub anerkannt\, ggfs. auch Sonderurlaub möglich. \nEine Anmeldung für dieses Seminar ist leider nicht mehr möglich. Ich freue mich\, wenn Sie die Möglichkeit haben\, sich zum Oktoberseminar anzumelden\, hier gibt es noch freie Plätze (Seminar mit gleichen Inhalten – 19. bis 23. Oktober 2026) \nDas Seminar ist offen sowohl für beruflich wie auch privat Interessierte. \nFinanzielle Förderungen möglich \n…über Arbeitgeber(in)\, KOMPASS (Soloselbstständige\, 90% (!)\, ggfs. Nachfolgemodell des Bildungsschecks (betrifft NRW\, 50%)\, Hamburger Weiterbildungsbonus (50 %) u. a. (mehr Infos auf meiner Homepage) \n\nTermin: 24. bis 28. August 2026 (Mo bis Fr\, an 5 Tagen)\nZeit: Mo: 13:15-17:15\, Di bis Do: 10:00-17:15\, Fr: 10:00-13:30 Uhr\nOrt: Arndtstraße 19\, 49080 Osnabrück\nTeilnahmebeitrag: 498 € für Personen mit geringem Einkommen ohne Möglichkeit einer finanziellen Förderung (bitte bei der Anmeldung begründen)\,  548 € für Privatzahler(innen) ohne finanzielle Förderung (s. o.)\, 598 € regulär – als anerkannte berufl. Weiterbildung MWSt-Befreiung)\nLeitung: Maria Nelkowski\, Trainerin Gewaltfreie Kommunikation\, Mediatorin\nWeitere Infos und Anmeldung: 0541 – 18 56 86 86\,  0177 – 85 22 11 2\, www.gewaltfrei-osnabrück.de\n\nDer Kurs wird gemeinsam mit der Ev. Erwachsenenbildung Niedersachsen (EEB) durchgeführt und ist zertifiziert nach ZAZAV. \nEr ist in verschiedenen Bundesländern als Veranstaltung für einen Bildungsurlaub anerkannt. Bildungsurlaub bedeutet\, dass Arbeitnehmer(innen) i. d. R. einen Rechtsanspruch auf eine Freistellung von der Arbeit unter Fortzahlung ihres Gehaltes für die Teilnahme an dieser Bildungsveranstaltung haben. Ggfs. ist auch Sonderurlaub (für Beamte) möglich. \nIn diesem Seminar erfahren und trainieren Sie die verschiedenen Facetten der GFK. \nDabei geht es weniger um trockene Theorievermittlung als vielmehr um ein entspanntes\, an persönlichen Erfahrungen orientiertes Lernen im geschützten Rahmen einer überschaubaren Gruppe. \nBesondere Aufmerksamkeit wird unseren Gefühlen und Bedürfnissen gewidmet. \nSie erweitern beispielsweise Ihre Kompetenzen: \n– sich ehrlich und klar auszudrücken\, ohne Abwehr und Widerstand zu wecken \n– potentielle Konflikte in friedliche Gespräche umzuwandeln \n– scheinbar unverständliches Verhalten anderer zu verstehen \n– Gedankenmuster aufzulösen\, die zu Ärger\, Depression und Verletzung führen \n– mehr Tiefe und Achtsamkeit in Beziehungen zu entwickeln \n– Lösungen zu finden\, die nach Möglichkeit die Bedürfnisse aller erfüllen \n– mitfühlend zuzuhören und die heilende Kraft der Empathie weiterzugeben \n…und erfahren\, dass Gewaltfreie Kommunikation über die verbale Kommunikation hinaus auch tiefere (heilsame) Aussöhnungsprozesse bedeuten kann. \nKursinhalte: \n-Einführung in das Modell der Gewaltfreien Kommunikation nach Marshall Rosenberg \n-erfahrungsorientierte Übungen zu den einzelnen Komponenten der Gewaltfreien Kommunikation \n-Selbstmitteilungen formulieren – authentisch\, wertschätzend und effektiv \n-auf eine Ärger auslösende Äußerung reagieren \n-empathisches Zuhören im Sinne eines klärend-heilsamen Gespräches \n-vertiefende Empathie-Prozesse (Stellvertretergespräche) zu konkreten Fällen der Teilnehmerinnen und Teilnehmer \nFlyer als Download \n  \n  \n  \n  \nOsnabrück liegt in der Nähe von Münster\, Lingen\, Rheine\, Nordhorn\, Meppen\, Hannover\, Minden\, Bad Oeynhausen\, Enschede\, Bielefeld\, Gütersloh u.v.m.
URL:https://www.gfk-info.de/seminar/intensivbasiskurs-gfk-bildungsurlaub-moeglich/
LOCATION:49082 Osnabrück\, Heckerstraße 75\, Osnabrück\, 49082\, Deutschland
CATEGORIES:Bildungsurlaub,Einführung,Intensiv Training,Intensiv Training,Praxis-Training,Praxistraining
ATTACH;FMTTYPE=image/jpeg:https://www.gfk-info.de/wp-content/uploads/2026/01/bearbeitet-ohne-Temperatur-scaled.jpg
ORGANIZER;CN="Nelkowski%2C Maria":MAILTO:m.nelkowski@web.de
GEO:52.26031;8.05696
X-APPLE-STRUCTURED-LOCATION;VALUE=URI;X-ADDRESS=49082 Osnabrück Heckerstraße 75 Osnabrück 49082 Deutschland;X-APPLE-RADIUS=500;X-TITLE=Heckerstraße 75:geo:8.05696,52.26031
END:VEVENT
END:VCALENDAR