BEGIN:VCALENDAR
VERSION:2.0
PRODID:-//Gewaltfreie Kommunikation - ECPv6.15.20//NONSGML v1.0//EN
CALSCALE:GREGORIAN
METHOD:PUBLISH
X-ORIGINAL-URL:https://www.gfk-info.de
X-WR-CALDESC:Veranstaltungen für Gewaltfreie Kommunikation
REFRESH-INTERVAL;VALUE=DURATION:PT1H
X-Robots-Tag:noindex
X-PUBLISHED-TTL:PT1H
BEGIN:VTIMEZONE
TZID:Europe/Berlin
BEGIN:DAYLIGHT
TZOFFSETFROM:+0100
TZOFFSETTO:+0200
TZNAME:CEST
DTSTART:20260329T010000
END:DAYLIGHT
BEGIN:STANDARD
TZOFFSETFROM:+0200
TZOFFSETTO:+0100
TZNAME:CET
DTSTART:20261025T010000
END:STANDARD
BEGIN:DAYLIGHT
TZOFFSETFROM:+0100
TZOFFSETTO:+0200
TZNAME:CEST
DTSTART:20270328T010000
END:DAYLIGHT
BEGIN:STANDARD
TZOFFSETFROM:+0200
TZOFFSETTO:+0100
TZNAME:CET
DTSTART:20271031T010000
END:STANDARD
BEGIN:DAYLIGHT
TZOFFSETFROM:+0100
TZOFFSETTO:+0200
TZNAME:CEST
DTSTART:20280326T010000
END:DAYLIGHT
BEGIN:STANDARD
TZOFFSETFROM:+0200
TZOFFSETTO:+0100
TZNAME:CET
DTSTART:20281029T010000
END:STANDARD
END:VTIMEZONE
BEGIN:VEVENT
DTSTART;VALUE=DATE:20270310
DTEND;VALUE=DATE:20270315
DTSTAMP:20260420T153352
CREATED:20260409T055013Z
LAST-MODIFIED:20260409T055704Z
UID:10011551-1804636800-1805068799@www.gfk-info.de
SUMMARY:GFK Trainer:innen Aufbau Ausbildung 2027 nahe Augsburg
DESCRIPTION:Train-the Trainer: Seminare konzipieren \nDie GFK Trainer:in Aufbau Ausbildung ist für alle gedacht\, die die GFK nicht nur in Gruppen verwenden\, sondern sie professionell in Seminaren weitergeben möchten. \nIn dieser Ausbildung befähigen wir Sie dazu\, professionelle GFK Seminare abwechslungsreich zu gestalten und von der Pike auf zu konzipieren. \nSie lernen wie eine Gruppe funktioniert und wie Sie nicht die GFK verkaufen\, sondern Probleme ihrer Kunden gezielt angehen können. Dabei zeigen wir Ihnen und üben\, wie Sie abwechslungsreiche Konzepte schmieden können\, und unterstützen Sie mit unserer Erfahrung als GFK Trainer und Ausbilder sowie qualifiziertem Feedback. \nInhalte\nMethodik&Didaktik\nWir vermitteln Ihnen die Kenntnisse\, die Sie brauchen\, um Aufträge zu klären\, Ziele zu entwickeln und fertige Drehbücher für mehrtägige Seminare zu entwickeln. Zusätzlich geben wir Ihnen die erprobten\, gut strukturierten und leicht handhabbaren Abfolgen an die Hand\, die wir selbst nutzen.\nDie GFK weitergeben\nDurch die intensive Auseinandersetzung mit Ihren eigenen Lernerfahrungen entwickeln Sie Ihren eigenen Stil und eine abwechslungsreiche Didaktik. \nPraxisorientierung\nUnser Motto lautet „Learning by Doing“. Deshalb bleibt es nicht bei der reinen Wissensvermittlung\, sondern Sie lernen direkt\, die GFK in überschaubaren Schritten an andere weiterzugeben. Wir unterstützen Sie mit empathischem Feedback\, erprobten Werkzeugen und einem nachhaltigen Austausch. \nSeminare leiten lernen \nSchritt für Schritt entwickeln Sie ein eigenes Seminarkonzept\, das Sie nach außen präsentieren können. Durch viele Übungen gewinnen Sie Routine am Flipchart und stehen mit Freude vor der Gruppe. Gängige Fragen zu Konzept und Praxis der GFK beantworten Sie sicher. \nDiese Ausbildung richtet sich an Menschen\, die …\n\ndie Haltung der GFK festigen möchten.\nverstehen wollen\, welche konkreten Werkzeuge und Techniken hinter der GFK stecken.\nbereits als Trainer:in oder Coach arbeiten und weiterführende Schritte zur Integration der GFK in ihr Programm suchen.\neine Jahresausbildung in GFK  absolviert haben und sich nun zur Trainer:in fortbilden möchten.\nbeabsichtigen\, als Trainer:in die Gewaltfreie Kommunikation in Seminaren\, Vorträgen oder\nWorkshops selbst weiterzugeben.\ndie Werkzeuge und Haltung der GFK auch beruflich nutzen möchten.\n\nVorkenntnisse \nUm die Trainer:in Aufbau Ausbildung zu belegen\, sollten Sie vorher die Basis-Ausbildung oder eine vergleichbare Ausbildung bei anderen Trainer:Innen abgeschlossen haben. Wir empfehlen außerdem den Abschluss der GFK-Jahresausbildung. Der individuelle Entwicklungsstand kann sehr unterschiedlich sein\, deswegen wollen wir die Teilnahme nicht an eine bestimmte Anzahl von Tagen knüpfen. Wenn Sie sich unsicher sind\, ob Sie von dieser Ausbildung profitieren\, melden Sie sich bei uns und wir finden es im Gespräch heraus. \nDie Blöcke der Ausbildung \nIn BLOCK 1 lernen Sie …\n\nwie Sie Seminare konzipieren und auf Ihre Zielgruppe zuschneiden können.\nwas Sie bei der Planung der Seminareinheiten berücksichtigen sollten.\nwie Sie mit der bewährten PITT Struktur möglichst viele Teilnehmer inspirieren.\nwie sich Gruppendynamik entwickelt und was das für Ihre Arbeit als Trainer:in bedeutet.\nwie Sie mit unterschiedlichen Ansprüchen an Ihre Rolle als Trainer:in umgehen.\nwie Sie mit GFK und dem SK-Prinzip erfolgreiche Gruppenentscheidungen fördern.\nwie Sie die Flipchart effektiv und ansprechend zur Visualisierung verwenden.\n\nIn BLOCK 2 lernen Sie …\n\neigenständig eine Seminareinheit zu planen\, vorzubereiten und durchzuführen.\neine Menge unterschiedlicher Trainingsstile kennen.\nsich gegenseitig klares und wohlwollendes Feedback zu geben.\nwo aus Sicht und Erfahrung anderer Teilnehmer Ihre eigenen Stärken und Schwächen liegen.\ndie offene Enden\, Fragen und Themen zu besprechen und Strategien zu deren Klärung zu entwickeln.\n\nUnsere  Haltung \nWir begegnen Ihnen auf Augenhöhe: Auch wir Trainer:innen haben abseits des Seminar-Alltags ganz ähnliche Probleme zu bewältigen wie Sie. Wahrscheinlich sind wir etwas geübter darin\, die Perspektive zu wechseln und sowohl spontan als auch klärend in einer konkreten Situation zu agieren. Aber auch wir erfahren das Leben täglich aufs Neue als herausfordernd. Deshalb distanzieren wir uns ausdrücklich von Besserwisserei und Geheimniskrämerei – es gibt aus unserer Sicht keine einfachen Antworten auf komplexe Fragen. \nStruktur ist uns wichtig: Wir setzen auf eine erprobte\, transparente Methodik und klar definierte Lern- und Übungsziele. Wir schätzen den Wert autodidaktischer Selbsthilfe\, der insbesondere in einer vertrauensvollen Gruppe entsteht. Dabei verzichten wir jedoch auf den „Hurra-Optimismus“\, wie er auf dem grauen Psycho- und Esoterik-Markt leider allzu oft anzutreffen ist. \n  \nHaben wir Ihr Interesse geweckt? Dann schauen Sie in unser Info-Webinar oder melden Sie sich gleich für die Ausbildung an. \nTermine\nBLOCK 1: 10.03. – 14.03.2027\nBLOCK 2: 28.04. – 02.05.2027\nBeginn am Anreisetag: 10 Uhr Ende am Abreisetag: ca. 15 Uhr \nTrainer\nMarkus Castro und Teresa Hierenbach \nMehr Infos und Anmeldung auf unserer Homepage \nStandard-Tarif: 2100€\nWenn Sie sich beruflich fortbilden\, Ihr Arbeitgeber die Kosten trägt oder Sie als Trainer\, Coach\, Moderator etc. selbstständig tätig sind (>28.000€ Umsatz). \nReduzierter Selbstzahler-Preis: 1400€\nSie wollen sich privat weiterbilden\, zahlen die Kosten aus eigener Tasche oder sind selbstständig mit einem Umsatz unter 28.000€. \nReduzierter Studierenden-/Sozial-Preis: 1800€\nWenn Sie studieren\, in Ausbildung oder arbeitssuchend sind.
URL:https://www.gfk-info.de/seminar/gfk-trainerinnen-aufbau-ausbildung-2027-nahe-augsburg/
LOCATION:maria ward Haus\, Eppishofer Str. 18\, Altenmünster\, Bayern\, 86450\, Deutschland
CATEGORIES:Ausbildung / Jahrestraining,Bildungsurlaub,Trainer:innen-Ausbildung
ATTACH;FMTTYPE=image/png:https://www.gfk-info.de/wp-content/uploads/2026/04/Trainerteam-Impact-Institut-Markus-Castro-Teresa-Hierenbach-2.png
ORGANIZER;CN="Castro y Castro%2C Markus":MAILTO:markus.castro@impactinstitut.com
GEO:48.4655069;10.5939947
X-APPLE-STRUCTURED-LOCATION;VALUE=URI;X-ADDRESS=maria ward Haus Eppishofer Str. 18 Altenmünster Bayern 86450 Deutschland;X-APPLE-RADIUS=500;X-TITLE=Eppishofer Str. 18:geo:10.5939947,48.4655069
END:VEVENT
END:VCALENDAR